BEGIN:VCALENDAR
VERSION:2.0
PRODID:-//Olde Towne Athletic Club - ECPv6.15.20//NONSGML v1.0//EN
CALSCALE:GREGORIAN
METHOD:PUBLISH
X-WR-CALNAME:Olde Towne Athletic Club
X-ORIGINAL-URL:https://oldetowneathleticclub.com
X-WR-CALDESC:Events for Olde Towne Athletic Club
REFRESH-INTERVAL;VALUE=DURATION:PT1H
X-Robots-Tag:noindex
X-PUBLISHED-TTL:PT1H
BEGIN:VTIMEZONE
TZID:America/New_York
BEGIN:DAYLIGHT
TZOFFSETFROM:-0500
TZOFFSETTO:-0400
TZNAME:EDT
DTSTART:20250309T070000
END:DAYLIGHT
BEGIN:STANDARD
TZOFFSETFROM:-0400
TZOFFSETTO:-0500
TZNAME:EST
DTSTART:20251102T060000
END:STANDARD
BEGIN:DAYLIGHT
TZOFFSETFROM:-0500
TZOFFSETTO:-0400
TZNAME:EDT
DTSTART:20260308T070000
END:DAYLIGHT
BEGIN:STANDARD
TZOFFSETFROM:-0400
TZOFFSETTO:-0500
TZNAME:EST
DTSTART:20261101T060000
END:STANDARD
BEGIN:DAYLIGHT
TZOFFSETFROM:-0500
TZOFFSETTO:-0400
TZNAME:EDT
DTSTART:20270314T070000
END:DAYLIGHT
BEGIN:STANDARD
TZOFFSETFROM:-0400
TZOFFSETTO:-0500
TZNAME:EST
DTSTART:20271107T060000
END:STANDARD
END:VTIMEZONE
BEGIN:VEVENT
DTSTART;TZID=America/New_York:20260429T190000
DTEND;TZID=America/New_York:20260429T203000
DTSTAMP:20260424T111503
CREATED:20251111T020521Z
LAST-MODIFIED:20251111T020521Z
UID:10000086-1777489200-1777494600@oldetowneathleticclub.com
SUMMARY:Doubles Trouble Tennis Drills
DESCRIPTION:
URL:https://oldetowneathleticclub.com/event/doubles-trouble-tennis-drills/2026-04-29/
LOCATION:OTAC Tennis Courts\, 4950 Olde Towne Pkwy\, Marietta\, 30068\, United States
CATEGORIES:Racket Sports Events
ORGANIZER;CN="John Shults":MAILTO:john@otac.net
END:VEVENT
BEGIN:VEVENT
DTSTART;TZID=America/New_York:20260506T190000
DTEND;TZID=America/New_York:20260506T203000
DTSTAMP:20260424T111503
CREATED:20251111T020521Z
LAST-MODIFIED:20251111T020521Z
UID:10000087-1778094000-1778099400@oldetowneathleticclub.com
SUMMARY:Doubles Trouble Tennis Drills
DESCRIPTION:
URL:https://oldetowneathleticclub.com/event/doubles-trouble-tennis-drills/2026-05-06/
LOCATION:OTAC Tennis Courts\, 4950 Olde Towne Pkwy\, Marietta\, 30068\, United States
CATEGORIES:Racket Sports Events
ORGANIZER;CN="John Shults":MAILTO:john@otac.net
END:VEVENT
BEGIN:VEVENT
DTSTART;TZID=America/New_York:20260513T190000
DTEND;TZID=America/New_York:20260513T203000
DTSTAMP:20260424T111503
CREATED:20251111T020521Z
LAST-MODIFIED:20251111T020521Z
UID:10000088-1778698800-1778704200@oldetowneathleticclub.com
SUMMARY:Doubles Trouble Tennis Drills
DESCRIPTION:
URL:https://oldetowneathleticclub.com/event/doubles-trouble-tennis-drills/2026-05-13/
LOCATION:OTAC Tennis Courts\, 4950 Olde Towne Pkwy\, Marietta\, 30068\, United States
CATEGORIES:Racket Sports Events
ORGANIZER;CN="John Shults":MAILTO:john@otac.net
END:VEVENT
BEGIN:VEVENT
DTSTART;TZID=America/New_York:20260520T190000
DTEND;TZID=America/New_York:20260520T203000
DTSTAMP:20260424T111503
CREATED:20251111T020521Z
LAST-MODIFIED:20251111T020521Z
UID:10000089-1779303600-1779309000@oldetowneathleticclub.com
SUMMARY:Doubles Trouble Tennis Drills
DESCRIPTION:
URL:https://oldetowneathleticclub.com/event/doubles-trouble-tennis-drills/2026-05-20/
LOCATION:OTAC Tennis Courts\, 4950 Olde Towne Pkwy\, Marietta\, 30068\, United States
CATEGORIES:Racket Sports Events
ORGANIZER;CN="John Shults":MAILTO:john@otac.net
END:VEVENT
BEGIN:VEVENT
DTSTART;TZID=America/New_York:20260527T190000
DTEND;TZID=America/New_York:20260527T203000
DTSTAMP:20260424T111503
CREATED:20251111T020521Z
LAST-MODIFIED:20251111T020521Z
UID:10000090-1779908400-1779913800@oldetowneathleticclub.com
SUMMARY:Doubles Trouble Tennis Drills
DESCRIPTION:
URL:https://oldetowneathleticclub.com/event/doubles-trouble-tennis-drills/2026-05-27/
LOCATION:OTAC Tennis Courts\, 4950 Olde Towne Pkwy\, Marietta\, 30068\, United States
CATEGORIES:Racket Sports Events
ORGANIZER;CN="John Shults":MAILTO:john@otac.net
END:VEVENT
BEGIN:VEVENT
DTSTART;TZID=America/New_York:20260603T190000
DTEND;TZID=America/New_York:20260603T203000
DTSTAMP:20260424T111503
CREATED:20251111T020521Z
LAST-MODIFIED:20251111T020521Z
UID:10000091-1780513200-1780518600@oldetowneathleticclub.com
SUMMARY:Doubles Trouble Tennis Drills
DESCRIPTION:
URL:https://oldetowneathleticclub.com/event/doubles-trouble-tennis-drills/2026-06-03/
LOCATION:OTAC Tennis Courts\, 4950 Olde Towne Pkwy\, Marietta\, 30068\, United States
CATEGORIES:Racket Sports Events
ORGANIZER;CN="John Shults":MAILTO:john@otac.net
END:VEVENT
BEGIN:VEVENT
DTSTART;TZID=America/New_York:20260610T190000
DTEND;TZID=America/New_York:20260610T203000
DTSTAMP:20260424T111503
CREATED:20251111T020521Z
LAST-MODIFIED:20251111T020521Z
UID:10000092-1781118000-1781123400@oldetowneathleticclub.com
SUMMARY:Doubles Trouble Tennis Drills
DESCRIPTION:
URL:https://oldetowneathleticclub.com/event/doubles-trouble-tennis-drills/2026-06-10/
LOCATION:OTAC Tennis Courts\, 4950 Olde Towne Pkwy\, Marietta\, 30068\, United States
CATEGORIES:Racket Sports Events
ORGANIZER;CN="John Shults":MAILTO:john@otac.net
END:VEVENT
BEGIN:VEVENT
DTSTART;TZID=America/New_York:20260617T190000
DTEND;TZID=America/New_York:20260617T203000
DTSTAMP:20260424T111503
CREATED:20251111T020521Z
LAST-MODIFIED:20251111T020521Z
UID:10000093-1781722800-1781728200@oldetowneathleticclub.com
SUMMARY:Doubles Trouble Tennis Drills
DESCRIPTION:
URL:https://oldetowneathleticclub.com/event/doubles-trouble-tennis-drills/2026-06-17/
LOCATION:OTAC Tennis Courts\, 4950 Olde Towne Pkwy\, Marietta\, 30068\, United States
CATEGORIES:Racket Sports Events
ORGANIZER;CN="John Shults":MAILTO:john@otac.net
END:VEVENT
BEGIN:VEVENT
DTSTART;TZID=America/New_York:20260624T190000
DTEND;TZID=America/New_York:20260624T203000
DTSTAMP:20260424T111503
CREATED:20251111T020521Z
LAST-MODIFIED:20251111T020521Z
UID:10000094-1782327600-1782333000@oldetowneathleticclub.com
SUMMARY:Doubles Trouble Tennis Drills
DESCRIPTION:
URL:https://oldetowneathleticclub.com/event/doubles-trouble-tennis-drills/2026-06-24/
LOCATION:OTAC Tennis Courts\, 4950 Olde Towne Pkwy\, Marietta\, 30068\, United States
CATEGORIES:Racket Sports Events
ORGANIZER;CN="John Shults":MAILTO:john@otac.net
END:VEVENT
BEGIN:VEVENT
DTSTART;TZID=America/New_York:20260701T190000
DTEND;TZID=America/New_York:20260701T203000
DTSTAMP:20260424T111503
CREATED:20251111T020521Z
LAST-MODIFIED:20251111T020521Z
UID:10000095-1782932400-1782937800@oldetowneathleticclub.com
SUMMARY:Doubles Trouble Tennis Drills
DESCRIPTION:
URL:https://oldetowneathleticclub.com/event/doubles-trouble-tennis-drills/2026-07-01/
LOCATION:OTAC Tennis Courts\, 4950 Olde Towne Pkwy\, Marietta\, 30068\, United States
CATEGORIES:Racket Sports Events
ORGANIZER;CN="John Shults":MAILTO:john@otac.net
END:VEVENT
BEGIN:VEVENT
DTSTART;TZID=America/New_York:20260708T190000
DTEND;TZID=America/New_York:20260708T203000
DTSTAMP:20260424T111503
CREATED:20251111T020521Z
LAST-MODIFIED:20251111T020521Z
UID:10000096-1783537200-1783542600@oldetowneathleticclub.com
SUMMARY:Doubles Trouble Tennis Drills
DESCRIPTION:
URL:https://oldetowneathleticclub.com/event/doubles-trouble-tennis-drills/2026-07-08/
LOCATION:OTAC Tennis Courts\, 4950 Olde Towne Pkwy\, Marietta\, 30068\, United States
CATEGORIES:Racket Sports Events
ORGANIZER;CN="John Shults":MAILTO:john@otac.net
END:VEVENT
BEGIN:VEVENT
DTSTART;TZID=America/New_York:20260715T190000
DTEND;TZID=America/New_York:20260715T203000
DTSTAMP:20260424T111503
CREATED:20251111T020521Z
LAST-MODIFIED:20251111T020521Z
UID:10000097-1784142000-1784147400@oldetowneathleticclub.com
SUMMARY:Doubles Trouble Tennis Drills
DESCRIPTION:
URL:https://oldetowneathleticclub.com/event/doubles-trouble-tennis-drills/2026-07-15/
LOCATION:OTAC Tennis Courts\, 4950 Olde Towne Pkwy\, Marietta\, 30068\, United States
CATEGORIES:Racket Sports Events
ORGANIZER;CN="John Shults":MAILTO:john@otac.net
END:VEVENT
BEGIN:VEVENT
DTSTART;TZID=America/New_York:20260722T190000
DTEND;TZID=America/New_York:20260722T203000
DTSTAMP:20260424T111503
CREATED:20251111T020521Z
LAST-MODIFIED:20251111T020521Z
UID:10000098-1784746800-1784752200@oldetowneathleticclub.com
SUMMARY:Doubles Trouble Tennis Drills
DESCRIPTION:
URL:https://oldetowneathleticclub.com/event/doubles-trouble-tennis-drills/2026-07-22/
LOCATION:OTAC Tennis Courts\, 4950 Olde Towne Pkwy\, Marietta\, 30068\, United States
CATEGORIES:Racket Sports Events
ORGANIZER;CN="John Shults":MAILTO:john@otac.net
END:VEVENT
BEGIN:VEVENT
DTSTART;TZID=America/New_York:20260729T190000
DTEND;TZID=America/New_York:20260729T203000
DTSTAMP:20260424T111503
CREATED:20251111T020521Z
LAST-MODIFIED:20251111T020521Z
UID:10000099-1785351600-1785357000@oldetowneathleticclub.com
SUMMARY:Doubles Trouble Tennis Drills
DESCRIPTION:
URL:https://oldetowneathleticclub.com/event/doubles-trouble-tennis-drills/2026-07-29/
LOCATION:OTAC Tennis Courts\, 4950 Olde Towne Pkwy\, Marietta\, 30068\, United States
CATEGORIES:Racket Sports Events
ORGANIZER;CN="John Shults":MAILTO:john@otac.net
END:VEVENT
BEGIN:VEVENT
DTSTART;TZID=America/New_York:20260805T190000
DTEND;TZID=America/New_York:20260805T203000
DTSTAMP:20260424T111503
CREATED:20251111T020521Z
LAST-MODIFIED:20251111T020521Z
UID:10000100-1785956400-1785961800@oldetowneathleticclub.com
SUMMARY:Doubles Trouble Tennis Drills
DESCRIPTION:
URL:https://oldetowneathleticclub.com/event/doubles-trouble-tennis-drills/2026-08-05/
LOCATION:OTAC Tennis Courts\, 4950 Olde Towne Pkwy\, Marietta\, 30068\, United States
CATEGORIES:Racket Sports Events
ORGANIZER;CN="John Shults":MAILTO:john@otac.net
END:VEVENT
BEGIN:VEVENT
DTSTART;TZID=America/New_York:20260812T190000
DTEND;TZID=America/New_York:20260812T203000
DTSTAMP:20260424T111503
CREATED:20251111T020521Z
LAST-MODIFIED:20251111T020521Z
UID:10000101-1786561200-1786566600@oldetowneathleticclub.com
SUMMARY:Doubles Trouble Tennis Drills
DESCRIPTION:
URL:https://oldetowneathleticclub.com/event/doubles-trouble-tennis-drills/2026-08-12/
LOCATION:OTAC Tennis Courts\, 4950 Olde Towne Pkwy\, Marietta\, 30068\, United States
CATEGORIES:Racket Sports Events
ORGANIZER;CN="John Shults":MAILTO:john@otac.net
END:VEVENT
BEGIN:VEVENT
DTSTART;TZID=America/New_York:20260819T190000
DTEND;TZID=America/New_York:20260819T203000
DTSTAMP:20260424T111503
CREATED:20251111T020521Z
LAST-MODIFIED:20251111T020521Z
UID:10000102-1787166000-1787171400@oldetowneathleticclub.com
SUMMARY:Doubles Trouble Tennis Drills
DESCRIPTION:
URL:https://oldetowneathleticclub.com/event/doubles-trouble-tennis-drills/2026-08-19/
LOCATION:OTAC Tennis Courts\, 4950 Olde Towne Pkwy\, Marietta\, 30068\, United States
CATEGORIES:Racket Sports Events
ORGANIZER;CN="John Shults":MAILTO:john@otac.net
END:VEVENT
BEGIN:VEVENT
DTSTART;TZID=America/New_York:20260826T190000
DTEND;TZID=America/New_York:20260826T203000
DTSTAMP:20260424T111503
CREATED:20251111T020521Z
LAST-MODIFIED:20251111T020521Z
UID:10000103-1787770800-1787776200@oldetowneathleticclub.com
SUMMARY:Doubles Trouble Tennis Drills
DESCRIPTION:
URL:https://oldetowneathleticclub.com/event/doubles-trouble-tennis-drills/2026-08-26/
LOCATION:OTAC Tennis Courts\, 4950 Olde Towne Pkwy\, Marietta\, 30068\, United States
CATEGORIES:Racket Sports Events
ORGANIZER;CN="John Shults":MAILTO:john@otac.net
END:VEVENT
BEGIN:VEVENT
DTSTART;TZID=America/New_York:20260902T190000
DTEND;TZID=America/New_York:20260902T203000
DTSTAMP:20260424T111503
CREATED:20251111T020521Z
LAST-MODIFIED:20251111T020521Z
UID:10000104-1788375600-1788381000@oldetowneathleticclub.com
SUMMARY:Doubles Trouble Tennis Drills
DESCRIPTION:
URL:https://oldetowneathleticclub.com/event/doubles-trouble-tennis-drills/2026-09-02/
LOCATION:OTAC Tennis Courts\, 4950 Olde Towne Pkwy\, Marietta\, 30068\, United States
CATEGORIES:Racket Sports Events
ORGANIZER;CN="John Shults":MAILTO:john@otac.net
END:VEVENT
BEGIN:VEVENT
DTSTART;TZID=America/New_York:20260909T190000
DTEND;TZID=America/New_York:20260909T203000
DTSTAMP:20260424T111503
CREATED:20251111T020521Z
LAST-MODIFIED:20251111T020521Z
UID:10000105-1788980400-1788985800@oldetowneathleticclub.com
SUMMARY:Doubles Trouble Tennis Drills
DESCRIPTION:
URL:https://oldetowneathleticclub.com/event/doubles-trouble-tennis-drills/2026-09-09/
LOCATION:OTAC Tennis Courts\, 4950 Olde Towne Pkwy\, Marietta\, 30068\, United States
CATEGORIES:Racket Sports Events
ORGANIZER;CN="John Shults":MAILTO:john@otac.net
END:VEVENT
BEGIN:VEVENT
DTSTART;TZID=America/New_York:20260916T190000
DTEND;TZID=America/New_York:20260916T203000
DTSTAMP:20260424T111503
CREATED:20251111T020521Z
LAST-MODIFIED:20251111T020521Z
UID:10000106-1789585200-1789590600@oldetowneathleticclub.com
SUMMARY:Doubles Trouble Tennis Drills
DESCRIPTION:
URL:https://oldetowneathleticclub.com/event/doubles-trouble-tennis-drills/2026-09-16/
LOCATION:OTAC Tennis Courts\, 4950 Olde Towne Pkwy\, Marietta\, 30068\, United States
CATEGORIES:Racket Sports Events
ORGANIZER;CN="John Shults":MAILTO:john@otac.net
END:VEVENT
BEGIN:VEVENT
DTSTART;TZID=America/New_York:20260923T190000
DTEND;TZID=America/New_York:20260923T203000
DTSTAMP:20260424T111503
CREATED:20251111T020521Z
LAST-MODIFIED:20251111T020521Z
UID:10000107-1790190000-1790195400@oldetowneathleticclub.com
SUMMARY:Doubles Trouble Tennis Drills
DESCRIPTION:
URL:https://oldetowneathleticclub.com/event/doubles-trouble-tennis-drills/2026-09-23/
LOCATION:OTAC Tennis Courts\, 4950 Olde Towne Pkwy\, Marietta\, 30068\, United States
CATEGORIES:Racket Sports Events
ORGANIZER;CN="John Shults":MAILTO:john@otac.net
END:VEVENT
BEGIN:VEVENT
DTSTART;TZID=America/New_York:20260930T190000
DTEND;TZID=America/New_York:20260930T203000
DTSTAMP:20260424T111503
CREATED:20251111T020521Z
LAST-MODIFIED:20251111T020521Z
UID:10000108-1790794800-1790800200@oldetowneathleticclub.com
SUMMARY:Doubles Trouble Tennis Drills
DESCRIPTION:
URL:https://oldetowneathleticclub.com/event/doubles-trouble-tennis-drills/2026-09-30/
LOCATION:OTAC Tennis Courts\, 4950 Olde Towne Pkwy\, Marietta\, 30068\, United States
CATEGORIES:Racket Sports Events
ORGANIZER;CN="John Shults":MAILTO:john@otac.net
END:VEVENT
BEGIN:VEVENT
DTSTART;TZID=America/New_York:20261007T190000
DTEND;TZID=America/New_York:20261007T203000
DTSTAMP:20260424T111503
CREATED:20251111T020521Z
LAST-MODIFIED:20251111T020521Z
UID:10000109-1791399600-1791405000@oldetowneathleticclub.com
SUMMARY:Doubles Trouble Tennis Drills
DESCRIPTION:
URL:https://oldetowneathleticclub.com/event/doubles-trouble-tennis-drills/2026-10-07/
LOCATION:OTAC Tennis Courts\, 4950 Olde Towne Pkwy\, Marietta\, 30068\, United States
CATEGORIES:Racket Sports Events
ORGANIZER;CN="John Shults":MAILTO:john@otac.net
END:VEVENT
BEGIN:VEVENT
DTSTART;TZID=America/New_York:20261014T190000
DTEND;TZID=America/New_York:20261014T203000
DTSTAMP:20260424T111503
CREATED:20251111T020521Z
LAST-MODIFIED:20251111T020521Z
UID:10000110-1792004400-1792009800@oldetowneathleticclub.com
SUMMARY:Doubles Trouble Tennis Drills
DESCRIPTION:
URL:https://oldetowneathleticclub.com/event/doubles-trouble-tennis-drills/2026-10-14/
LOCATION:OTAC Tennis Courts\, 4950 Olde Towne Pkwy\, Marietta\, 30068\, United States
CATEGORIES:Racket Sports Events
ORGANIZER;CN="John Shults":MAILTO:john@otac.net
END:VEVENT
BEGIN:VEVENT
DTSTART;TZID=America/New_York:20261021T190000
DTEND;TZID=America/New_York:20261021T203000
DTSTAMP:20260424T111503
CREATED:20251111T020521Z
LAST-MODIFIED:20251111T020521Z
UID:10000111-1792609200-1792614600@oldetowneathleticclub.com
SUMMARY:Doubles Trouble Tennis Drills
DESCRIPTION:
URL:https://oldetowneathleticclub.com/event/doubles-trouble-tennis-drills/2026-10-21/
LOCATION:OTAC Tennis Courts\, 4950 Olde Towne Pkwy\, Marietta\, 30068\, United States
CATEGORIES:Racket Sports Events
ORGANIZER;CN="John Shults":MAILTO:john@otac.net
END:VEVENT
BEGIN:VEVENT
DTSTART;TZID=America/New_York:20261028T190000
DTEND;TZID=America/New_York:20261028T203000
DTSTAMP:20260424T111503
CREATED:20251111T020521Z
LAST-MODIFIED:20251111T020521Z
UID:10000112-1793214000-1793219400@oldetowneathleticclub.com
SUMMARY:Doubles Trouble Tennis Drills
DESCRIPTION:
URL:https://oldetowneathleticclub.com/event/doubles-trouble-tennis-drills/2026-10-28/
LOCATION:OTAC Tennis Courts\, 4950 Olde Towne Pkwy\, Marietta\, 30068\, United States
CATEGORIES:Racket Sports Events
ORGANIZER;CN="John Shults":MAILTO:john@otac.net
END:VEVENT
BEGIN:VEVENT
DTSTART;TZID=America/New_York:20261104T190000
DTEND;TZID=America/New_York:20261104T203000
DTSTAMP:20260424T111503
CREATED:20251111T020521Z
LAST-MODIFIED:20251111T020521Z
UID:10000113-1793818800-1793824200@oldetowneathleticclub.com
SUMMARY:Doubles Trouble Tennis Drills
DESCRIPTION:
URL:https://oldetowneathleticclub.com/event/doubles-trouble-tennis-drills/2026-11-04/
LOCATION:OTAC Tennis Courts\, 4950 Olde Towne Pkwy\, Marietta\, 30068\, United States
CATEGORIES:Racket Sports Events
ORGANIZER;CN="John Shults":MAILTO:john@otac.net
END:VEVENT
BEGIN:VEVENT
DTSTART;TZID=America/New_York:20261111T190000
DTEND;TZID=America/New_York:20261111T203000
DTSTAMP:20260424T111503
CREATED:20251111T020521Z
LAST-MODIFIED:20251111T020521Z
UID:10000114-1794423600-1794429000@oldetowneathleticclub.com
SUMMARY:Doubles Trouble Tennis Drills
DESCRIPTION:
URL:https://oldetowneathleticclub.com/event/doubles-trouble-tennis-drills/2026-11-11/
LOCATION:OTAC Tennis Courts\, 4950 Olde Towne Pkwy\, Marietta\, 30068\, United States
CATEGORIES:Racket Sports Events
ORGANIZER;CN="John Shults":MAILTO:john@otac.net
END:VEVENT
BEGIN:VEVENT
DTSTART;TZID=America/New_York:20261118T190000
DTEND;TZID=America/New_York:20261118T203000
DTSTAMP:20260424T111503
CREATED:20251111T020521Z
LAST-MODIFIED:20251111T020521Z
UID:10000115-1795028400-1795033800@oldetowneathleticclub.com
SUMMARY:Doubles Trouble Tennis Drills
DESCRIPTION:
URL:https://oldetowneathleticclub.com/event/doubles-trouble-tennis-drills/2026-11-18/
LOCATION:OTAC Tennis Courts\, 4950 Olde Towne Pkwy\, Marietta\, 30068\, United States
CATEGORIES:Racket Sports Events
ORGANIZER;CN="John Shults":MAILTO:john@otac.net
END:VEVENT
END:VCALENDAR