BEGIN:VCALENDAR
VERSION:2.0
PRODID:-//Olde Towne Athletic Club - ECPv6.15.20//NONSGML v1.0//EN
CALSCALE:GREGORIAN
METHOD:PUBLISH
X-ORIGINAL-URL:https://oldetowneathleticclub.com
X-WR-CALDESC:Events for Olde Towne Athletic Club
REFRESH-INTERVAL;VALUE=DURATION:PT1H
X-Robots-Tag:noindex
X-PUBLISHED-TTL:PT1H
BEGIN:VTIMEZONE
TZID:America/New_York
BEGIN:DAYLIGHT
TZOFFSETFROM:-0500
TZOFFSETTO:-0400
TZNAME:EDT
DTSTART:20270314T070000
END:DAYLIGHT
BEGIN:STANDARD
TZOFFSETFROM:-0400
TZOFFSETTO:-0500
TZNAME:EST
DTSTART:20271107T060000
END:STANDARD
BEGIN:DAYLIGHT
TZOFFSETFROM:-0500
TZOFFSETTO:-0400
TZNAME:EDT
DTSTART:20280312T070000
END:DAYLIGHT
BEGIN:STANDARD
TZOFFSETFROM:-0400
TZOFFSETTO:-0500
TZNAME:EST
DTSTART:20281105T060000
END:STANDARD
BEGIN:DAYLIGHT
TZOFFSETFROM:-0500
TZOFFSETTO:-0400
TZNAME:EDT
DTSTART:20290311T070000
END:DAYLIGHT
BEGIN:STANDARD
TZOFFSETFROM:-0400
TZOFFSETTO:-0500
TZNAME:EST
DTSTART:20291104T060000
END:STANDARD
END:VTIMEZONE
BEGIN:VEVENT
DTSTART;VALUE=DATE:20280101
DTEND;VALUE=DATE:20280102
DTSTAMP:20260419T121830
CREATED:20251113T152111Z
LAST-MODIFIED:20251113T152111Z
UID:10000688-1830297600-1830383999@oldetowneathleticclub.com
SUMMARY:Club Closed
DESCRIPTION:
URL:https://oldetowneathleticclub.com/event/club-closed-5/2028-01-01/
LOCATION:Georgia
CATEGORIES:Holiday Hours
END:VEVENT
BEGIN:VEVENT
DTSTART;TZID=America/New_York:20280105T190000
DTEND;TZID=America/New_York:20280105T203000
DTSTAMP:20260419T121830
CREATED:20251111T020521Z
LAST-MODIFIED:20251111T020521Z
UID:10000174-1830711600-1830717000@oldetowneathleticclub.com
SUMMARY:Doubles Trouble Tennis Drills
DESCRIPTION:
URL:https://oldetowneathleticclub.com/event/doubles-trouble-tennis-drills/2028-01-05/
LOCATION:OTAC Tennis Courts\, 4950 Olde Towne Pkwy\, Marietta\, 30068\, United States
CATEGORIES:Racket Sports Events
ORGANIZER;CN="John Shults":MAILTO:john@otac.net
END:VEVENT
BEGIN:VEVENT
DTSTART;TZID=America/New_York:20280107T090000
DTEND;TZID=America/New_York:20280107T103000
DTSTAMP:20260419T121830
CREATED:20251120T232537Z
LAST-MODIFIED:20251120T232537Z
UID:10000802-1830848400-1830853800@oldetowneathleticclub.com
SUMMARY:Adult Drills
DESCRIPTION:Register HERE for Adult Drills. You will need a YourCourts account. Register HERE if you need a YourCourts account.
URL:https://oldetowneathleticclub.com/event/adult-drills/2028-01-07/
LOCATION:OTAC Tennis Courts\, 4950 Olde Towne Pkwy\, Marietta\, 30068\, United States
CATEGORIES:Racket Sports Events
ORGANIZER;CN="Julius Robberts":MAILTO:julius@otac.net
END:VEVENT
BEGIN:VEVENT
DTSTART;TZID=America/New_York:20280112T190000
DTEND;TZID=America/New_York:20280112T203000
DTSTAMP:20260419T121830
CREATED:20251111T020521Z
LAST-MODIFIED:20251111T020521Z
UID:10000175-1831316400-1831321800@oldetowneathleticclub.com
SUMMARY:Doubles Trouble Tennis Drills
DESCRIPTION:
URL:https://oldetowneathleticclub.com/event/doubles-trouble-tennis-drills/2028-01-12/
LOCATION:OTAC Tennis Courts\, 4950 Olde Towne Pkwy\, Marietta\, 30068\, United States
CATEGORIES:Racket Sports Events
ORGANIZER;CN="John Shults":MAILTO:john@otac.net
END:VEVENT
BEGIN:VEVENT
DTSTART;TZID=America/New_York:20280114T090000
DTEND;TZID=America/New_York:20280114T103000
DTSTAMP:20260419T121830
CREATED:20251120T232537Z
LAST-MODIFIED:20251120T232537Z
UID:10000803-1831453200-1831458600@oldetowneathleticclub.com
SUMMARY:Adult Drills
DESCRIPTION:Register HERE for Adult Drills. You will need a YourCourts account. Register HERE if you need a YourCourts account.
URL:https://oldetowneathleticclub.com/event/adult-drills/2028-01-14/
LOCATION:OTAC Tennis Courts\, 4950 Olde Towne Pkwy\, Marietta\, 30068\, United States
CATEGORIES:Racket Sports Events
ORGANIZER;CN="Julius Robberts":MAILTO:julius@otac.net
END:VEVENT
BEGIN:VEVENT
DTSTART;TZID=America/New_York:20280119T190000
DTEND;TZID=America/New_York:20280119T203000
DTSTAMP:20260419T121830
CREATED:20251111T020521Z
LAST-MODIFIED:20251111T020521Z
UID:10000176-1831921200-1831926600@oldetowneathleticclub.com
SUMMARY:Doubles Trouble Tennis Drills
DESCRIPTION:
URL:https://oldetowneathleticclub.com/event/doubles-trouble-tennis-drills/2028-01-19/
LOCATION:OTAC Tennis Courts\, 4950 Olde Towne Pkwy\, Marietta\, 30068\, United States
CATEGORIES:Racket Sports Events
ORGANIZER;CN="John Shults":MAILTO:john@otac.net
END:VEVENT
BEGIN:VEVENT
DTSTART;TZID=America/New_York:20280121T090000
DTEND;TZID=America/New_York:20280121T103000
DTSTAMP:20260419T121830
CREATED:20251120T232537Z
LAST-MODIFIED:20251120T232537Z
UID:10000804-1832058000-1832063400@oldetowneathleticclub.com
SUMMARY:Adult Drills
DESCRIPTION:Register HERE for Adult Drills. You will need a YourCourts account. Register HERE if you need a YourCourts account.
URL:https://oldetowneathleticclub.com/event/adult-drills/2028-01-21/
LOCATION:OTAC Tennis Courts\, 4950 Olde Towne Pkwy\, Marietta\, 30068\, United States
CATEGORIES:Racket Sports Events
ORGANIZER;CN="Julius Robberts":MAILTO:julius@otac.net
END:VEVENT
BEGIN:VEVENT
DTSTART;TZID=America/New_York:20280126T190000
DTEND;TZID=America/New_York:20280126T203000
DTSTAMP:20260419T121830
CREATED:20251111T020521Z
LAST-MODIFIED:20251111T020521Z
UID:10000177-1832526000-1832531400@oldetowneathleticclub.com
SUMMARY:Doubles Trouble Tennis Drills
DESCRIPTION:
URL:https://oldetowneathleticclub.com/event/doubles-trouble-tennis-drills/2028-01-26/
LOCATION:OTAC Tennis Courts\, 4950 Olde Towne Pkwy\, Marietta\, 30068\, United States
CATEGORIES:Racket Sports Events
ORGANIZER;CN="John Shults":MAILTO:john@otac.net
END:VEVENT
BEGIN:VEVENT
DTSTART;TZID=America/New_York:20280128T090000
DTEND;TZID=America/New_York:20280128T103000
DTSTAMP:20260419T121830
CREATED:20251120T232537Z
LAST-MODIFIED:20251120T232537Z
UID:10000805-1832662800-1832668200@oldetowneathleticclub.com
SUMMARY:Adult Drills
DESCRIPTION:Register HERE for Adult Drills. You will need a YourCourts account. Register HERE if you need a YourCourts account.
URL:https://oldetowneathleticclub.com/event/adult-drills/2028-01-28/
LOCATION:OTAC Tennis Courts\, 4950 Olde Towne Pkwy\, Marietta\, 30068\, United States
CATEGORIES:Racket Sports Events
ORGANIZER;CN="Julius Robberts":MAILTO:julius@otac.net
END:VEVENT
END:VCALENDAR