BEGIN:VCALENDAR
VERSION:2.0
PRODID:-//Olde Towne Athletic Club - ECPv6.15.20//NONSGML v1.0//EN
CALSCALE:GREGORIAN
METHOD:PUBLISH
X-ORIGINAL-URL:https://oldetowneathleticclub.com
X-WR-CALDESC:Events for Olde Towne Athletic Club
REFRESH-INTERVAL;VALUE=DURATION:PT1H
X-Robots-Tag:noindex
X-PUBLISHED-TTL:PT1H
BEGIN:VTIMEZONE
TZID:America/New_York
BEGIN:DAYLIGHT
TZOFFSETFROM:-0500
TZOFFSETTO:-0400
TZNAME:EDT
DTSTART:20280312T070000
END:DAYLIGHT
BEGIN:STANDARD
TZOFFSETFROM:-0400
TZOFFSETTO:-0500
TZNAME:EST
DTSTART:20281105T060000
END:STANDARD
BEGIN:DAYLIGHT
TZOFFSETFROM:-0500
TZOFFSETTO:-0400
TZNAME:EDT
DTSTART:20290311T070000
END:DAYLIGHT
BEGIN:STANDARD
TZOFFSETFROM:-0400
TZOFFSETTO:-0500
TZNAME:EST
DTSTART:20291104T060000
END:STANDARD
BEGIN:DAYLIGHT
TZOFFSETFROM:-0500
TZOFFSETTO:-0400
TZNAME:EDT
DTSTART:20300310T070000
END:DAYLIGHT
BEGIN:STANDARD
TZOFFSETFROM:-0400
TZOFFSETTO:-0500
TZNAME:EST
DTSTART:20301103T060000
END:STANDARD
BEGIN:DAYLIGHT
TZOFFSETFROM:-0500
TZOFFSETTO:-0400
TZNAME:EDT
DTSTART:20310309T070000
END:DAYLIGHT
BEGIN:STANDARD
TZOFFSETFROM:-0400
TZOFFSETTO:-0500
TZNAME:EST
DTSTART:20311102T060000
END:STANDARD
END:VTIMEZONE
BEGIN:VEVENT
DTSTART;TZID=America/New_York:20291102T090000
DTEND;TZID=America/New_York:20291102T103000
DTSTAMP:20260421T005453
CREATED:20251120T232537Z
LAST-MODIFIED:20251120T232537Z
UID:10000897-1888304400-1888309800@oldetowneathleticclub.com
SUMMARY:Adult Drills
DESCRIPTION:Register HERE for Adult Drills. You will need a YourCourts account. Register HERE if you need a YourCourts account.
URL:https://oldetowneathleticclub.com/event/adult-drills/2029-11-02/
LOCATION:OTAC Tennis Courts\, 4950 Olde Towne Pkwy\, Marietta\, 30068\, United States
CATEGORIES:Racket Sports Events
ORGANIZER;CN="Julius Robberts":MAILTO:julius@otac.net
END:VEVENT
BEGIN:VEVENT
DTSTART;TZID=America/New_York:20291107T190000
DTEND;TZID=America/New_York:20291107T203000
DTSTAMP:20260421T005453
CREATED:20251111T020521Z
LAST-MODIFIED:20251111T020521Z
UID:10000270-1888772400-1888777800@oldetowneathleticclub.com
SUMMARY:Doubles Trouble Tennis Drills
DESCRIPTION:
URL:https://oldetowneathleticclub.com/event/doubles-trouble-tennis-drills/2029-11-07/
LOCATION:OTAC Tennis Courts\, 4950 Olde Towne Pkwy\, Marietta\, 30068\, United States
CATEGORIES:Racket Sports Events
ORGANIZER;CN="John Shults":MAILTO:john@otac.net
END:VEVENT
BEGIN:VEVENT
DTSTART;TZID=America/New_York:20291109T090000
DTEND;TZID=America/New_York:20291109T103000
DTSTAMP:20260421T005453
CREATED:20251120T232537Z
LAST-MODIFIED:20251120T232537Z
UID:10000898-1888909200-1888914600@oldetowneathleticclub.com
SUMMARY:Adult Drills
DESCRIPTION:Register HERE for Adult Drills. You will need a YourCourts account. Register HERE if you need a YourCourts account.
URL:https://oldetowneathleticclub.com/event/adult-drills/2029-11-09/
LOCATION:OTAC Tennis Courts\, 4950 Olde Towne Pkwy\, Marietta\, 30068\, United States
CATEGORIES:Racket Sports Events
ORGANIZER;CN="Julius Robberts":MAILTO:julius@otac.net
END:VEVENT
BEGIN:VEVENT
DTSTART;TZID=America/New_York:20291114T190000
DTEND;TZID=America/New_York:20291114T203000
DTSTAMP:20260421T005453
CREATED:20251111T020521Z
LAST-MODIFIED:20251111T020521Z
UID:10000271-1889377200-1889382600@oldetowneathleticclub.com
SUMMARY:Doubles Trouble Tennis Drills
DESCRIPTION:
URL:https://oldetowneathleticclub.com/event/doubles-trouble-tennis-drills/2029-11-14/
LOCATION:OTAC Tennis Courts\, 4950 Olde Towne Pkwy\, Marietta\, 30068\, United States
CATEGORIES:Racket Sports Events
ORGANIZER;CN="John Shults":MAILTO:john@otac.net
END:VEVENT
BEGIN:VEVENT
DTSTART;TZID=America/New_York:20291116T090000
DTEND;TZID=America/New_York:20291116T103000
DTSTAMP:20260421T005453
CREATED:20251120T232537Z
LAST-MODIFIED:20251120T232537Z
UID:10000899-1889514000-1889519400@oldetowneathleticclub.com
SUMMARY:Adult Drills
DESCRIPTION:Register HERE for Adult Drills. You will need a YourCourts account. Register HERE if you need a YourCourts account.
URL:https://oldetowneathleticclub.com/event/adult-drills/2029-11-16/
LOCATION:OTAC Tennis Courts\, 4950 Olde Towne Pkwy\, Marietta\, 30068\, United States
CATEGORIES:Racket Sports Events
ORGANIZER;CN="Julius Robberts":MAILTO:julius@otac.net
END:VEVENT
BEGIN:VEVENT
DTSTART;TZID=America/New_York:20291121T190000
DTEND;TZID=America/New_York:20291121T203000
DTSTAMP:20260421T005453
CREATED:20251111T020521Z
LAST-MODIFIED:20251111T020521Z
UID:10000272-1889982000-1889987400@oldetowneathleticclub.com
SUMMARY:Doubles Trouble Tennis Drills
DESCRIPTION:
URL:https://oldetowneathleticclub.com/event/doubles-trouble-tennis-drills/2029-11-21/
LOCATION:OTAC Tennis Courts\, 4950 Olde Towne Pkwy\, Marietta\, 30068\, United States
CATEGORIES:Racket Sports Events
ORGANIZER;CN="John Shults":MAILTO:john@otac.net
END:VEVENT
BEGIN:VEVENT
DTSTART;VALUE=DATE:20291122
DTEND;VALUE=DATE:20291123
DTSTAMP:20260421T005453
CREATED:20251113T150329Z
LAST-MODIFIED:20251113T150329Z
UID:10000648-1890000000-1890086399@oldetowneathleticclub.com
SUMMARY:Club Closed
DESCRIPTION:
URL:https://oldetowneathleticclub.com/event/club-closed/2029-11-22/
CATEGORIES:Holiday Hours
END:VEVENT
BEGIN:VEVENT
DTSTART;VALUE=DATE:20291123
DTEND;VALUE=DATE:20291124
DTSTAMP:20260421T005453
CREATED:20251113T150845Z
LAST-MODIFIED:20251113T150845Z
UID:10000658-1890086400-1890172799@oldetowneathleticclub.com
SUMMARY:Business Office Closed
DESCRIPTION:
URL:https://oldetowneathleticclub.com/event/business-office-closed/2029-11-23/
CATEGORIES:Holiday Hours
END:VEVENT
BEGIN:VEVENT
DTSTART;VALUE=DATE:20291123
DTEND;VALUE=DATE:20291124
DTSTAMP:20260421T005453
CREATED:20251113T151436Z
LAST-MODIFIED:20251113T151436Z
UID:10000668-1890086400-1890172799@oldetowneathleticclub.com
SUMMARY:Restaurant Closed
DESCRIPTION:
URL:https://oldetowneathleticclub.com/event/restaurant-closed-2/2029-11-23/
CATEGORIES:Holiday Hours
END:VEVENT
BEGIN:VEVENT
DTSTART;TZID=America/New_York:20291123T090000
DTEND;TZID=America/New_York:20291123T103000
DTSTAMP:20260421T005453
CREATED:20251120T232537Z
LAST-MODIFIED:20251120T232537Z
UID:10000900-1890118800-1890124200@oldetowneathleticclub.com
SUMMARY:Adult Drills
DESCRIPTION:Register HERE for Adult Drills. You will need a YourCourts account. Register HERE if you need a YourCourts account.
URL:https://oldetowneathleticclub.com/event/adult-drills/2029-11-23/
LOCATION:OTAC Tennis Courts\, 4950 Olde Towne Pkwy\, Marietta\, 30068\, United States
CATEGORIES:Racket Sports Events
ORGANIZER;CN="Julius Robberts":MAILTO:julius@otac.net
END:VEVENT
BEGIN:VEVENT
DTSTART;VALUE=DATE:20291128
DTEND;VALUE=DATE:20291129
DTSTAMP:20260421T005453
CREATED:20251113T150620Z
LAST-MODIFIED:20251113T150620Z
UID:10000653-1890518400-1890604799@oldetowneathleticclub.com
SUMMARY:Club Closes @ 9:00pm
DESCRIPTION:
URL:https://oldetowneathleticclub.com/event/club-closes-900pm/2029-11-28/
CATEGORIES:Holiday Hours
END:VEVENT
BEGIN:VEVENT
DTSTART;VALUE=DATE:20291128
DTEND;VALUE=DATE:20291129
DTSTAMP:20260421T005453
CREATED:20251113T151031Z
LAST-MODIFIED:20251113T151227Z
UID:10000663-1890518400-1890604799@oldetowneathleticclub.com
SUMMARY:Restaurant Closed
DESCRIPTION:
URL:https://oldetowneathleticclub.com/event/restaurant-closed/2029-11-28/
CATEGORIES:Holiday Hours
END:VEVENT
BEGIN:VEVENT
DTSTART;TZID=America/New_York:20291128T190000
DTEND;TZID=America/New_York:20291128T203000
DTSTAMP:20260421T005453
CREATED:20251111T020521Z
LAST-MODIFIED:20251111T020521Z
UID:10000273-1890586800-1890592200@oldetowneathleticclub.com
SUMMARY:Doubles Trouble Tennis Drills
DESCRIPTION:
URL:https://oldetowneathleticclub.com/event/doubles-trouble-tennis-drills/2029-11-28/
LOCATION:OTAC Tennis Courts\, 4950 Olde Towne Pkwy\, Marietta\, 30068\, United States
CATEGORIES:Racket Sports Events
ORGANIZER;CN="John Shults":MAILTO:john@otac.net
END:VEVENT
BEGIN:VEVENT
DTSTART;TZID=America/New_York:20291130T090000
DTEND;TZID=America/New_York:20291130T103000
DTSTAMP:20260421T005453
CREATED:20251120T232537Z
LAST-MODIFIED:20251120T232537Z
UID:10000901-1890723600-1890729000@oldetowneathleticclub.com
SUMMARY:Adult Drills
DESCRIPTION:Register HERE for Adult Drills. You will need a YourCourts account. Register HERE if you need a YourCourts account.
URL:https://oldetowneathleticclub.com/event/adult-drills/2029-11-30/
LOCATION:OTAC Tennis Courts\, 4950 Olde Towne Pkwy\, Marietta\, 30068\, United States
CATEGORIES:Racket Sports Events
ORGANIZER;CN="Julius Robberts":MAILTO:julius@otac.net
END:VEVENT
BEGIN:VEVENT
DTSTART;TZID=America/New_York:20291205T190000
DTEND;TZID=America/New_York:20291205T203000
DTSTAMP:20260421T005453
CREATED:20251111T020521Z
LAST-MODIFIED:20251111T020521Z
UID:10000274-1891191600-1891197000@oldetowneathleticclub.com
SUMMARY:Doubles Trouble Tennis Drills
DESCRIPTION:
URL:https://oldetowneathleticclub.com/event/doubles-trouble-tennis-drills/2029-12-05/
LOCATION:OTAC Tennis Courts\, 4950 Olde Towne Pkwy\, Marietta\, 30068\, United States
CATEGORIES:Racket Sports Events
ORGANIZER;CN="John Shults":MAILTO:john@otac.net
END:VEVENT
BEGIN:VEVENT
DTSTART;TZID=America/New_York:20291207T090000
DTEND;TZID=America/New_York:20291207T103000
DTSTAMP:20260421T005453
CREATED:20251120T232537Z
LAST-MODIFIED:20251120T232537Z
UID:10000902-1891328400-1891333800@oldetowneathleticclub.com
SUMMARY:Adult Drills
DESCRIPTION:Register HERE for Adult Drills. You will need a YourCourts account. Register HERE if you need a YourCourts account.
URL:https://oldetowneathleticclub.com/event/adult-drills/2029-12-07/
LOCATION:OTAC Tennis Courts\, 4950 Olde Towne Pkwy\, Marietta\, 30068\, United States
CATEGORIES:Racket Sports Events
ORGANIZER;CN="Julius Robberts":MAILTO:julius@otac.net
END:VEVENT
BEGIN:VEVENT
DTSTART;TZID=America/New_York:20291212T190000
DTEND;TZID=America/New_York:20291212T203000
DTSTAMP:20260421T005453
CREATED:20251111T020521Z
LAST-MODIFIED:20251111T020521Z
UID:10000275-1891796400-1891801800@oldetowneathleticclub.com
SUMMARY:Doubles Trouble Tennis Drills
DESCRIPTION:
URL:https://oldetowneathleticclub.com/event/doubles-trouble-tennis-drills/2029-12-12/
LOCATION:OTAC Tennis Courts\, 4950 Olde Towne Pkwy\, Marietta\, 30068\, United States
CATEGORIES:Racket Sports Events
ORGANIZER;CN="John Shults":MAILTO:john@otac.net
END:VEVENT
BEGIN:VEVENT
DTSTART;TZID=America/New_York:20291214T090000
DTEND;TZID=America/New_York:20291214T103000
DTSTAMP:20260421T005453
CREATED:20251120T232537Z
LAST-MODIFIED:20251120T232537Z
UID:10000903-1891933200-1891938600@oldetowneathleticclub.com
SUMMARY:Adult Drills
DESCRIPTION:Register HERE for Adult Drills. You will need a YourCourts account. Register HERE if you need a YourCourts account.
URL:https://oldetowneathleticclub.com/event/adult-drills/2029-12-14/
LOCATION:OTAC Tennis Courts\, 4950 Olde Towne Pkwy\, Marietta\, 30068\, United States
CATEGORIES:Racket Sports Events
ORGANIZER;CN="Julius Robberts":MAILTO:julius@otac.net
END:VEVENT
BEGIN:VEVENT
DTSTART;TZID=America/New_York:20291219T190000
DTEND;TZID=America/New_York:20291219T203000
DTSTAMP:20260421T005453
CREATED:20251111T020521Z
LAST-MODIFIED:20251111T020521Z
UID:10000276-1892401200-1892406600@oldetowneathleticclub.com
SUMMARY:Doubles Trouble Tennis Drills
DESCRIPTION:
URL:https://oldetowneathleticclub.com/event/doubles-trouble-tennis-drills/2029-12-19/
LOCATION:OTAC Tennis Courts\, 4950 Olde Towne Pkwy\, Marietta\, 30068\, United States
CATEGORIES:Racket Sports Events
ORGANIZER;CN="John Shults":MAILTO:john@otac.net
END:VEVENT
BEGIN:VEVENT
DTSTART;TZID=America/New_York:20291221T090000
DTEND;TZID=America/New_York:20291221T103000
DTSTAMP:20260421T005453
CREATED:20251120T232537Z
LAST-MODIFIED:20251120T232537Z
UID:10000904-1892538000-1892543400@oldetowneathleticclub.com
SUMMARY:Adult Drills
DESCRIPTION:Register HERE for Adult Drills. You will need a YourCourts account. Register HERE if you need a YourCourts account.
URL:https://oldetowneathleticclub.com/event/adult-drills/2029-12-21/
LOCATION:OTAC Tennis Courts\, 4950 Olde Towne Pkwy\, Marietta\, 30068\, United States
CATEGORIES:Racket Sports Events
ORGANIZER;CN="Julius Robberts":MAILTO:julius@otac.net
END:VEVENT
BEGIN:VEVENT
DTSTART;VALUE=DATE:20291224
DTEND;VALUE=DATE:20291225
DTSTAMP:20260421T005453
CREATED:20251113T151609Z
LAST-MODIFIED:20251113T151609Z
UID:10000673-1892764800-1892851199@oldetowneathleticclub.com
SUMMARY:Club Closed
DESCRIPTION:
URL:https://oldetowneathleticclub.com/event/club-closed-2/2029-12-24/
CATEGORIES:Holiday Hours
END:VEVENT
BEGIN:VEVENT
DTSTART;VALUE=DATE:20291225
DTEND;VALUE=DATE:20291226
DTSTAMP:20260421T005453
CREATED:20251113T151706Z
LAST-MODIFIED:20251113T151706Z
UID:10000678-1892851200-1892937599@oldetowneathleticclub.com
SUMMARY:Club Closed
DESCRIPTION:
URL:https://oldetowneathleticclub.com/event/club-closed-3/2029-12-25/
CATEGORIES:Holiday Hours
END:VEVENT
BEGIN:VEVENT
DTSTART;TZID=America/New_York:20291226T190000
DTEND;TZID=America/New_York:20291226T203000
DTSTAMP:20260421T005453
CREATED:20251111T020521Z
LAST-MODIFIED:20251111T020521Z
UID:10000277-1893006000-1893011400@oldetowneathleticclub.com
SUMMARY:Doubles Trouble Tennis Drills
DESCRIPTION:
URL:https://oldetowneathleticclub.com/event/doubles-trouble-tennis-drills/2029-12-26/
LOCATION:OTAC Tennis Courts\, 4950 Olde Towne Pkwy\, Marietta\, 30068\, United States
CATEGORIES:Racket Sports Events
ORGANIZER;CN="John Shults":MAILTO:john@otac.net
END:VEVENT
BEGIN:VEVENT
DTSTART;TZID=America/New_York:20291228T090000
DTEND;TZID=America/New_York:20291228T103000
DTSTAMP:20260421T005453
CREATED:20251120T232537Z
LAST-MODIFIED:20251120T232537Z
UID:10000905-1893142800-1893148200@oldetowneathleticclub.com
SUMMARY:Adult Drills
DESCRIPTION:Register HERE for Adult Drills. You will need a YourCourts account. Register HERE if you need a YourCourts account.
URL:https://oldetowneathleticclub.com/event/adult-drills/2029-12-28/
LOCATION:OTAC Tennis Courts\, 4950 Olde Towne Pkwy\, Marietta\, 30068\, United States
CATEGORIES:Racket Sports Events
ORGANIZER;CN="Julius Robberts":MAILTO:julius@otac.net
END:VEVENT
BEGIN:VEVENT
DTSTART;VALUE=DATE:20291231
DTEND;VALUE=DATE:20300101
DTSTAMP:20260421T005453
CREATED:20251113T152018Z
LAST-MODIFIED:20251113T152018Z
UID:10000685-1893369600-1893455999@oldetowneathleticclub.com
SUMMARY:Club Closed
DESCRIPTION:
URL:https://oldetowneathleticclub.com/event/club-closed-4/2029-12-31/
CATEGORIES:Holiday Hours
END:VEVENT
BEGIN:VEVENT
DTSTART;VALUE=DATE:20300101
DTEND;VALUE=DATE:20300102
DTSTAMP:20260421T005453
CREATED:20251113T152111Z
LAST-MODIFIED:20251113T152111Z
UID:10000690-1893456000-1893542399@oldetowneathleticclub.com
SUMMARY:Club Closed
DESCRIPTION:
URL:https://oldetowneathleticclub.com/event/club-closed-5/2030-01-01/
CATEGORIES:Holiday Hours
END:VEVENT
BEGIN:VEVENT
DTSTART;TZID=America/New_York:20300102T190000
DTEND;TZID=America/New_York:20300102T203000
DTSTAMP:20260421T005453
CREATED:20251111T020521Z
LAST-MODIFIED:20251111T020521Z
UID:10000278-1893610800-1893616200@oldetowneathleticclub.com
SUMMARY:Doubles Trouble Tennis Drills
DESCRIPTION:
URL:https://oldetowneathleticclub.com/event/doubles-trouble-tennis-drills/2030-01-02/
LOCATION:OTAC Tennis Courts\, 4950 Olde Towne Pkwy\, Marietta\, 30068\, United States
CATEGORIES:Racket Sports Events
ORGANIZER;CN="John Shults":MAILTO:john@otac.net
END:VEVENT
BEGIN:VEVENT
DTSTART;TZID=America/New_York:20300104T090000
DTEND;TZID=America/New_York:20300104T103000
DTSTAMP:20260421T005453
CREATED:20251120T232537Z
LAST-MODIFIED:20251120T232537Z
UID:10000906-1893747600-1893753000@oldetowneathleticclub.com
SUMMARY:Adult Drills
DESCRIPTION:Register HERE for Adult Drills. You will need a YourCourts account. Register HERE if you need a YourCourts account.
URL:https://oldetowneathleticclub.com/event/adult-drills/2030-01-04/
LOCATION:OTAC Tennis Courts\, 4950 Olde Towne Pkwy\, Marietta\, 30068\, United States
CATEGORIES:Racket Sports Events
ORGANIZER;CN="Julius Robberts":MAILTO:julius@otac.net
END:VEVENT
BEGIN:VEVENT
DTSTART;TZID=America/New_York:20300109T190000
DTEND;TZID=America/New_York:20300109T203000
DTSTAMP:20260421T005453
CREATED:20251111T020521Z
LAST-MODIFIED:20251111T020521Z
UID:10000279-1894215600-1894221000@oldetowneathleticclub.com
SUMMARY:Doubles Trouble Tennis Drills
DESCRIPTION:
URL:https://oldetowneathleticclub.com/event/doubles-trouble-tennis-drills/2030-01-09/
LOCATION:OTAC Tennis Courts\, 4950 Olde Towne Pkwy\, Marietta\, 30068\, United States
CATEGORIES:Racket Sports Events
ORGANIZER;CN="John Shults":MAILTO:john@otac.net
END:VEVENT
BEGIN:VEVENT
DTSTART;TZID=America/New_York:20300111T090000
DTEND;TZID=America/New_York:20300111T103000
DTSTAMP:20260421T005453
CREATED:20251120T232537Z
LAST-MODIFIED:20251120T232537Z
UID:10000907-1894352400-1894357800@oldetowneathleticclub.com
SUMMARY:Adult Drills
DESCRIPTION:Register HERE for Adult Drills. You will need a YourCourts account. Register HERE if you need a YourCourts account.
URL:https://oldetowneathleticclub.com/event/adult-drills/2030-01-11/
LOCATION:OTAC Tennis Courts\, 4950 Olde Towne Pkwy\, Marietta\, 30068\, United States
CATEGORIES:Racket Sports Events
ORGANIZER;CN="Julius Robberts":MAILTO:julius@otac.net
END:VEVENT
END:VCALENDAR