BEGIN:VCALENDAR
VERSION:2.0
PRODID:-//Olde Towne Athletic Club - ECPv6.15.20//NONSGML v1.0//EN
CALSCALE:GREGORIAN
METHOD:PUBLISH
X-WR-CALNAME:Olde Towne Athletic Club
X-ORIGINAL-URL:https://oldetowneathleticclub.com
X-WR-CALDESC:Events for Olde Towne Athletic Club
REFRESH-INTERVAL;VALUE=DURATION:PT1H
X-Robots-Tag:noindex
X-PUBLISHED-TTL:PT1H
BEGIN:VTIMEZONE
TZID:America/New_York
BEGIN:DAYLIGHT
TZOFFSETFROM:-0500
TZOFFSETTO:-0400
TZNAME:EDT
DTSTART:20270314T070000
END:DAYLIGHT
BEGIN:STANDARD
TZOFFSETFROM:-0400
TZOFFSETTO:-0500
TZNAME:EST
DTSTART:20271107T060000
END:STANDARD
BEGIN:DAYLIGHT
TZOFFSETFROM:-0500
TZOFFSETTO:-0400
TZNAME:EDT
DTSTART:20280312T070000
END:DAYLIGHT
BEGIN:STANDARD
TZOFFSETFROM:-0400
TZOFFSETTO:-0500
TZNAME:EST
DTSTART:20281105T060000
END:STANDARD
BEGIN:DAYLIGHT
TZOFFSETFROM:-0500
TZOFFSETTO:-0400
TZNAME:EDT
DTSTART:20290311T070000
END:DAYLIGHT
BEGIN:STANDARD
TZOFFSETFROM:-0400
TZOFFSETTO:-0500
TZNAME:EST
DTSTART:20291104T060000
END:STANDARD
END:VTIMEZONE
BEGIN:VEVENT
DTSTART;TZID=America/New_York:20280609T090000
DTEND;TZID=America/New_York:20280609T103000
DTSTAMP:20260420T011443
CREATED:20251120T232537Z
LAST-MODIFIED:20251120T232537Z
UID:10000824-1844154000-1844159400@oldetowneathleticclub.com
SUMMARY:Adult Drills
DESCRIPTION:Register HERE for Adult Drills. You will need a YourCourts account. Register HERE if you need a YourCourts account.
URL:https://oldetowneathleticclub.com/event/adult-drills/2028-06-09/
LOCATION:OTAC Tennis Courts\, 4950 Olde Towne Pkwy\, Marietta\, 30068\, United States
CATEGORIES:Racket Sports Events
ORGANIZER;CN="Julius Robberts":MAILTO:julius@otac.net
END:VEVENT
BEGIN:VEVENT
DTSTART;TZID=America/New_York:20280614T190000
DTEND;TZID=America/New_York:20280614T203000
DTSTAMP:20260420T011443
CREATED:20251111T020521Z
LAST-MODIFIED:20251111T020521Z
UID:10000197-1844622000-1844627400@oldetowneathleticclub.com
SUMMARY:Doubles Trouble Tennis Drills
DESCRIPTION:
URL:https://oldetowneathleticclub.com/event/doubles-trouble-tennis-drills/2028-06-14/
LOCATION:OTAC Tennis Courts\, 4950 Olde Towne Pkwy\, Marietta\, 30068\, United States
CATEGORIES:Racket Sports Events
ORGANIZER;CN="John Shults":MAILTO:john@otac.net
END:VEVENT
BEGIN:VEVENT
DTSTART;TZID=America/New_York:20280616T090000
DTEND;TZID=America/New_York:20280616T103000
DTSTAMP:20260420T011443
CREATED:20251120T232537Z
LAST-MODIFIED:20251120T232537Z
UID:10000825-1844758800-1844764200@oldetowneathleticclub.com
SUMMARY:Adult Drills
DESCRIPTION:Register HERE for Adult Drills. You will need a YourCourts account. Register HERE if you need a YourCourts account.
URL:https://oldetowneathleticclub.com/event/adult-drills/2028-06-16/
LOCATION:OTAC Tennis Courts\, 4950 Olde Towne Pkwy\, Marietta\, 30068\, United States
CATEGORIES:Racket Sports Events
ORGANIZER;CN="Julius Robberts":MAILTO:julius@otac.net
END:VEVENT
BEGIN:VEVENT
DTSTART;TZID=America/New_York:20280621T190000
DTEND;TZID=America/New_York:20280621T203000
DTSTAMP:20260420T011443
CREATED:20251111T020521Z
LAST-MODIFIED:20251111T020521Z
UID:10000198-1845226800-1845232200@oldetowneathleticclub.com
SUMMARY:Doubles Trouble Tennis Drills
DESCRIPTION:
URL:https://oldetowneathleticclub.com/event/doubles-trouble-tennis-drills/2028-06-21/
LOCATION:OTAC Tennis Courts\, 4950 Olde Towne Pkwy\, Marietta\, 30068\, United States
CATEGORIES:Racket Sports Events
ORGANIZER;CN="John Shults":MAILTO:john@otac.net
END:VEVENT
BEGIN:VEVENT
DTSTART;TZID=America/New_York:20280623T090000
DTEND;TZID=America/New_York:20280623T103000
DTSTAMP:20260420T011443
CREATED:20251120T232537Z
LAST-MODIFIED:20251120T232537Z
UID:10000826-1845363600-1845369000@oldetowneathleticclub.com
SUMMARY:Adult Drills
DESCRIPTION:Register HERE for Adult Drills. You will need a YourCourts account. Register HERE if you need a YourCourts account.
URL:https://oldetowneathleticclub.com/event/adult-drills/2028-06-23/
LOCATION:OTAC Tennis Courts\, 4950 Olde Towne Pkwy\, Marietta\, 30068\, United States
CATEGORIES:Racket Sports Events
ORGANIZER;CN="Julius Robberts":MAILTO:julius@otac.net
END:VEVENT
BEGIN:VEVENT
DTSTART;TZID=America/New_York:20280628T190000
DTEND;TZID=America/New_York:20280628T203000
DTSTAMP:20260420T011443
CREATED:20251111T020521Z
LAST-MODIFIED:20251111T020521Z
UID:10000199-1845831600-1845837000@oldetowneathleticclub.com
SUMMARY:Doubles Trouble Tennis Drills
DESCRIPTION:
URL:https://oldetowneathleticclub.com/event/doubles-trouble-tennis-drills/2028-06-28/
LOCATION:OTAC Tennis Courts\, 4950 Olde Towne Pkwy\, Marietta\, 30068\, United States
CATEGORIES:Racket Sports Events
ORGANIZER;CN="John Shults":MAILTO:john@otac.net
END:VEVENT
BEGIN:VEVENT
DTSTART;TZID=America/New_York:20280630T090000
DTEND;TZID=America/New_York:20280630T103000
DTSTAMP:20260420T011443
CREATED:20251120T232537Z
LAST-MODIFIED:20251120T232537Z
UID:10000827-1845968400-1845973800@oldetowneathleticclub.com
SUMMARY:Adult Drills
DESCRIPTION:Register HERE for Adult Drills. You will need a YourCourts account. Register HERE if you need a YourCourts account.
URL:https://oldetowneathleticclub.com/event/adult-drills/2028-06-30/
LOCATION:OTAC Tennis Courts\, 4950 Olde Towne Pkwy\, Marietta\, 30068\, United States
CATEGORIES:Racket Sports Events
ORGANIZER;CN="Julius Robberts":MAILTO:julius@otac.net
END:VEVENT
BEGIN:VEVENT
DTSTART;TZID=America/New_York:20280705T190000
DTEND;TZID=America/New_York:20280705T203000
DTSTAMP:20260420T011443
CREATED:20251111T020521Z
LAST-MODIFIED:20251111T020521Z
UID:10000200-1846436400-1846441800@oldetowneathleticclub.com
SUMMARY:Doubles Trouble Tennis Drills
DESCRIPTION:
URL:https://oldetowneathleticclub.com/event/doubles-trouble-tennis-drills/2028-07-05/
LOCATION:OTAC Tennis Courts\, 4950 Olde Towne Pkwy\, Marietta\, 30068\, United States
CATEGORIES:Racket Sports Events
ORGANIZER;CN="John Shults":MAILTO:john@otac.net
END:VEVENT
BEGIN:VEVENT
DTSTART;TZID=America/New_York:20280707T090000
DTEND;TZID=America/New_York:20280707T103000
DTSTAMP:20260420T011443
CREATED:20251120T232537Z
LAST-MODIFIED:20251120T232537Z
UID:10000828-1846573200-1846578600@oldetowneathleticclub.com
SUMMARY:Adult Drills
DESCRIPTION:Register HERE for Adult Drills. You will need a YourCourts account. Register HERE if you need a YourCourts account.
URL:https://oldetowneathleticclub.com/event/adult-drills/2028-07-07/
LOCATION:OTAC Tennis Courts\, 4950 Olde Towne Pkwy\, Marietta\, 30068\, United States
CATEGORIES:Racket Sports Events
ORGANIZER;CN="Julius Robberts":MAILTO:julius@otac.net
END:VEVENT
BEGIN:VEVENT
DTSTART;TZID=America/New_York:20280712T190000
DTEND;TZID=America/New_York:20280712T203000
DTSTAMP:20260420T011443
CREATED:20251111T020521Z
LAST-MODIFIED:20251111T020521Z
UID:10000201-1847041200-1847046600@oldetowneathleticclub.com
SUMMARY:Doubles Trouble Tennis Drills
DESCRIPTION:
URL:https://oldetowneathleticclub.com/event/doubles-trouble-tennis-drills/2028-07-12/
LOCATION:OTAC Tennis Courts\, 4950 Olde Towne Pkwy\, Marietta\, 30068\, United States
CATEGORIES:Racket Sports Events
ORGANIZER;CN="John Shults":MAILTO:john@otac.net
END:VEVENT
BEGIN:VEVENT
DTSTART;TZID=America/New_York:20280714T090000
DTEND;TZID=America/New_York:20280714T103000
DTSTAMP:20260420T011443
CREATED:20251120T232537Z
LAST-MODIFIED:20251120T232537Z
UID:10000829-1847178000-1847183400@oldetowneathleticclub.com
SUMMARY:Adult Drills
DESCRIPTION:Register HERE for Adult Drills. You will need a YourCourts account. Register HERE if you need a YourCourts account.
URL:https://oldetowneathleticclub.com/event/adult-drills/2028-07-14/
LOCATION:OTAC Tennis Courts\, 4950 Olde Towne Pkwy\, Marietta\, 30068\, United States
CATEGORIES:Racket Sports Events
ORGANIZER;CN="Julius Robberts":MAILTO:julius@otac.net
END:VEVENT
BEGIN:VEVENT
DTSTART;TZID=America/New_York:20280719T190000
DTEND;TZID=America/New_York:20280719T203000
DTSTAMP:20260420T011443
CREATED:20251111T020521Z
LAST-MODIFIED:20251111T020521Z
UID:10000202-1847646000-1847651400@oldetowneathleticclub.com
SUMMARY:Doubles Trouble Tennis Drills
DESCRIPTION:
URL:https://oldetowneathleticclub.com/event/doubles-trouble-tennis-drills/2028-07-19/
LOCATION:OTAC Tennis Courts\, 4950 Olde Towne Pkwy\, Marietta\, 30068\, United States
CATEGORIES:Racket Sports Events
ORGANIZER;CN="John Shults":MAILTO:john@otac.net
END:VEVENT
BEGIN:VEVENT
DTSTART;TZID=America/New_York:20280721T090000
DTEND;TZID=America/New_York:20280721T103000
DTSTAMP:20260420T011444
CREATED:20251120T232537Z
LAST-MODIFIED:20251120T232537Z
UID:10000830-1847782800-1847788200@oldetowneathleticclub.com
SUMMARY:Adult Drills
DESCRIPTION:Register HERE for Adult Drills. You will need a YourCourts account. Register HERE if you need a YourCourts account.
URL:https://oldetowneathleticclub.com/event/adult-drills/2028-07-21/
LOCATION:OTAC Tennis Courts\, 4950 Olde Towne Pkwy\, Marietta\, 30068\, United States
CATEGORIES:Racket Sports Events
ORGANIZER;CN="Julius Robberts":MAILTO:julius@otac.net
END:VEVENT
BEGIN:VEVENT
DTSTART;TZID=America/New_York:20280726T190000
DTEND;TZID=America/New_York:20280726T203000
DTSTAMP:20260420T011444
CREATED:20251111T020521Z
LAST-MODIFIED:20251111T020521Z
UID:10000203-1848250800-1848256200@oldetowneathleticclub.com
SUMMARY:Doubles Trouble Tennis Drills
DESCRIPTION:
URL:https://oldetowneathleticclub.com/event/doubles-trouble-tennis-drills/2028-07-26/
LOCATION:OTAC Tennis Courts\, 4950 Olde Towne Pkwy\, Marietta\, 30068\, United States
CATEGORIES:Racket Sports Events
ORGANIZER;CN="John Shults":MAILTO:john@otac.net
END:VEVENT
BEGIN:VEVENT
DTSTART;TZID=America/New_York:20280728T090000
DTEND;TZID=America/New_York:20280728T103000
DTSTAMP:20260420T011444
CREATED:20251120T232537Z
LAST-MODIFIED:20251120T232537Z
UID:10000831-1848387600-1848393000@oldetowneathleticclub.com
SUMMARY:Adult Drills
DESCRIPTION:Register HERE for Adult Drills. You will need a YourCourts account. Register HERE if you need a YourCourts account.
URL:https://oldetowneathleticclub.com/event/adult-drills/2028-07-28/
LOCATION:OTAC Tennis Courts\, 4950 Olde Towne Pkwy\, Marietta\, 30068\, United States
CATEGORIES:Racket Sports Events
ORGANIZER;CN="Julius Robberts":MAILTO:julius@otac.net
END:VEVENT
BEGIN:VEVENT
DTSTART;TZID=America/New_York:20280802T190000
DTEND;TZID=America/New_York:20280802T203000
DTSTAMP:20260420T011444
CREATED:20251111T020521Z
LAST-MODIFIED:20251111T020521Z
UID:10000204-1848855600-1848861000@oldetowneathleticclub.com
SUMMARY:Doubles Trouble Tennis Drills
DESCRIPTION:
URL:https://oldetowneathleticclub.com/event/doubles-trouble-tennis-drills/2028-08-02/
LOCATION:OTAC Tennis Courts\, 4950 Olde Towne Pkwy\, Marietta\, 30068\, United States
CATEGORIES:Racket Sports Events
ORGANIZER;CN="John Shults":MAILTO:john@otac.net
END:VEVENT
BEGIN:VEVENT
DTSTART;TZID=America/New_York:20280804T090000
DTEND;TZID=America/New_York:20280804T103000
DTSTAMP:20260420T011444
CREATED:20251120T232537Z
LAST-MODIFIED:20251120T232537Z
UID:10000832-1848992400-1848997800@oldetowneathleticclub.com
SUMMARY:Adult Drills
DESCRIPTION:Register HERE for Adult Drills. You will need a YourCourts account. Register HERE if you need a YourCourts account.
URL:https://oldetowneathleticclub.com/event/adult-drills/2028-08-04/
LOCATION:OTAC Tennis Courts\, 4950 Olde Towne Pkwy\, Marietta\, 30068\, United States
CATEGORIES:Racket Sports Events
ORGANIZER;CN="Julius Robberts":MAILTO:julius@otac.net
END:VEVENT
BEGIN:VEVENT
DTSTART;TZID=America/New_York:20280809T190000
DTEND;TZID=America/New_York:20280809T203000
DTSTAMP:20260420T011444
CREATED:20251111T020521Z
LAST-MODIFIED:20251111T020521Z
UID:10000205-1849460400-1849465800@oldetowneathleticclub.com
SUMMARY:Doubles Trouble Tennis Drills
DESCRIPTION:
URL:https://oldetowneathleticclub.com/event/doubles-trouble-tennis-drills/2028-08-09/
LOCATION:OTAC Tennis Courts\, 4950 Olde Towne Pkwy\, Marietta\, 30068\, United States
CATEGORIES:Racket Sports Events
ORGANIZER;CN="John Shults":MAILTO:john@otac.net
END:VEVENT
BEGIN:VEVENT
DTSTART;TZID=America/New_York:20280811T090000
DTEND;TZID=America/New_York:20280811T103000
DTSTAMP:20260420T011444
CREATED:20251120T232537Z
LAST-MODIFIED:20251120T232537Z
UID:10000833-1849597200-1849602600@oldetowneathleticclub.com
SUMMARY:Adult Drills
DESCRIPTION:Register HERE for Adult Drills. You will need a YourCourts account. Register HERE if you need a YourCourts account.
URL:https://oldetowneathleticclub.com/event/adult-drills/2028-08-11/
LOCATION:OTAC Tennis Courts\, 4950 Olde Towne Pkwy\, Marietta\, 30068\, United States
CATEGORIES:Racket Sports Events
ORGANIZER;CN="Julius Robberts":MAILTO:julius@otac.net
END:VEVENT
BEGIN:VEVENT
DTSTART;TZID=America/New_York:20280816T190000
DTEND;TZID=America/New_York:20280816T203000
DTSTAMP:20260420T011444
CREATED:20251111T020521Z
LAST-MODIFIED:20251111T020521Z
UID:10000206-1850065200-1850070600@oldetowneathleticclub.com
SUMMARY:Doubles Trouble Tennis Drills
DESCRIPTION:
URL:https://oldetowneathleticclub.com/event/doubles-trouble-tennis-drills/2028-08-16/
LOCATION:OTAC Tennis Courts\, 4950 Olde Towne Pkwy\, Marietta\, 30068\, United States
CATEGORIES:Racket Sports Events
ORGANIZER;CN="John Shults":MAILTO:john@otac.net
END:VEVENT
BEGIN:VEVENT
DTSTART;TZID=America/New_York:20280818T090000
DTEND;TZID=America/New_York:20280818T103000
DTSTAMP:20260420T011444
CREATED:20251120T232537Z
LAST-MODIFIED:20251120T232537Z
UID:10000834-1850202000-1850207400@oldetowneathleticclub.com
SUMMARY:Adult Drills
DESCRIPTION:Register HERE for Adult Drills. You will need a YourCourts account. Register HERE if you need a YourCourts account.
URL:https://oldetowneathleticclub.com/event/adult-drills/2028-08-18/
LOCATION:OTAC Tennis Courts\, 4950 Olde Towne Pkwy\, Marietta\, 30068\, United States
CATEGORIES:Racket Sports Events
ORGANIZER;CN="Julius Robberts":MAILTO:julius@otac.net
END:VEVENT
BEGIN:VEVENT
DTSTART;TZID=America/New_York:20280823T190000
DTEND;TZID=America/New_York:20280823T203000
DTSTAMP:20260420T011444
CREATED:20251111T020521Z
LAST-MODIFIED:20251111T020521Z
UID:10000207-1850670000-1850675400@oldetowneathleticclub.com
SUMMARY:Doubles Trouble Tennis Drills
DESCRIPTION:
URL:https://oldetowneathleticclub.com/event/doubles-trouble-tennis-drills/2028-08-23/
LOCATION:OTAC Tennis Courts\, 4950 Olde Towne Pkwy\, Marietta\, 30068\, United States
CATEGORIES:Racket Sports Events
ORGANIZER;CN="John Shults":MAILTO:john@otac.net
END:VEVENT
BEGIN:VEVENT
DTSTART;TZID=America/New_York:20280825T090000
DTEND;TZID=America/New_York:20280825T103000
DTSTAMP:20260420T011444
CREATED:20251120T232537Z
LAST-MODIFIED:20251120T232537Z
UID:10000835-1850806800-1850812200@oldetowneathleticclub.com
SUMMARY:Adult Drills
DESCRIPTION:Register HERE for Adult Drills. You will need a YourCourts account. Register HERE if you need a YourCourts account.
URL:https://oldetowneathleticclub.com/event/adult-drills/2028-08-25/
LOCATION:OTAC Tennis Courts\, 4950 Olde Towne Pkwy\, Marietta\, 30068\, United States
CATEGORIES:Racket Sports Events
ORGANIZER;CN="Julius Robberts":MAILTO:julius@otac.net
END:VEVENT
BEGIN:VEVENT
DTSTART;TZID=America/New_York:20280830T190000
DTEND;TZID=America/New_York:20280830T203000
DTSTAMP:20260420T011444
CREATED:20251111T020521Z
LAST-MODIFIED:20251111T020521Z
UID:10000208-1851274800-1851280200@oldetowneathleticclub.com
SUMMARY:Doubles Trouble Tennis Drills
DESCRIPTION:
URL:https://oldetowneathleticclub.com/event/doubles-trouble-tennis-drills/2028-08-30/
LOCATION:OTAC Tennis Courts\, 4950 Olde Towne Pkwy\, Marietta\, 30068\, United States
CATEGORIES:Racket Sports Events
ORGANIZER;CN="John Shults":MAILTO:john@otac.net
END:VEVENT
BEGIN:VEVENT
DTSTART;TZID=America/New_York:20280901T090000
DTEND;TZID=America/New_York:20280901T103000
DTSTAMP:20260420T011444
CREATED:20251120T232537Z
LAST-MODIFIED:20251120T232537Z
UID:10000836-1851411600-1851417000@oldetowneathleticclub.com
SUMMARY:Adult Drills
DESCRIPTION:Register HERE for Adult Drills. You will need a YourCourts account. Register HERE if you need a YourCourts account.
URL:https://oldetowneathleticclub.com/event/adult-drills/2028-09-01/
LOCATION:OTAC Tennis Courts\, 4950 Olde Towne Pkwy\, Marietta\, 30068\, United States
CATEGORIES:Racket Sports Events
ORGANIZER;CN="Julius Robberts":MAILTO:julius@otac.net
END:VEVENT
BEGIN:VEVENT
DTSTART;TZID=America/New_York:20280906T190000
DTEND;TZID=America/New_York:20280906T203000
DTSTAMP:20260420T011444
CREATED:20251111T020521Z
LAST-MODIFIED:20251111T020521Z
UID:10000209-1851879600-1851885000@oldetowneathleticclub.com
SUMMARY:Doubles Trouble Tennis Drills
DESCRIPTION:
URL:https://oldetowneathleticclub.com/event/doubles-trouble-tennis-drills/2028-09-06/
LOCATION:OTAC Tennis Courts\, 4950 Olde Towne Pkwy\, Marietta\, 30068\, United States
CATEGORIES:Racket Sports Events
ORGANIZER;CN="John Shults":MAILTO:john@otac.net
END:VEVENT
BEGIN:VEVENT
DTSTART;TZID=America/New_York:20280908T090000
DTEND;TZID=America/New_York:20280908T103000
DTSTAMP:20260420T011444
CREATED:20251120T232537Z
LAST-MODIFIED:20251120T232537Z
UID:10000837-1852016400-1852021800@oldetowneathleticclub.com
SUMMARY:Adult Drills
DESCRIPTION:Register HERE for Adult Drills. You will need a YourCourts account. Register HERE if you need a YourCourts account.
URL:https://oldetowneathleticclub.com/event/adult-drills/2028-09-08/
LOCATION:OTAC Tennis Courts\, 4950 Olde Towne Pkwy\, Marietta\, 30068\, United States
CATEGORIES:Racket Sports Events
ORGANIZER;CN="Julius Robberts":MAILTO:julius@otac.net
END:VEVENT
BEGIN:VEVENT
DTSTART;TZID=America/New_York:20280913T190000
DTEND;TZID=America/New_York:20280913T203000
DTSTAMP:20260420T011444
CREATED:20251111T020521Z
LAST-MODIFIED:20251111T020521Z
UID:10000210-1852484400-1852489800@oldetowneathleticclub.com
SUMMARY:Doubles Trouble Tennis Drills
DESCRIPTION:
URL:https://oldetowneathleticclub.com/event/doubles-trouble-tennis-drills/2028-09-13/
LOCATION:OTAC Tennis Courts\, 4950 Olde Towne Pkwy\, Marietta\, 30068\, United States
CATEGORIES:Racket Sports Events
ORGANIZER;CN="John Shults":MAILTO:john@otac.net
END:VEVENT
BEGIN:VEVENT
DTSTART;TZID=America/New_York:20280915T090000
DTEND;TZID=America/New_York:20280915T103000
DTSTAMP:20260420T011444
CREATED:20251120T232537Z
LAST-MODIFIED:20251120T232537Z
UID:10000838-1852621200-1852626600@oldetowneathleticclub.com
SUMMARY:Adult Drills
DESCRIPTION:Register HERE for Adult Drills. You will need a YourCourts account. Register HERE if you need a YourCourts account.
URL:https://oldetowneathleticclub.com/event/adult-drills/2028-09-15/
LOCATION:OTAC Tennis Courts\, 4950 Olde Towne Pkwy\, Marietta\, 30068\, United States
CATEGORIES:Racket Sports Events
ORGANIZER;CN="Julius Robberts":MAILTO:julius@otac.net
END:VEVENT
BEGIN:VEVENT
DTSTART;TZID=America/New_York:20280920T190000
DTEND;TZID=America/New_York:20280920T203000
DTSTAMP:20260420T011444
CREATED:20251111T020521Z
LAST-MODIFIED:20251111T020521Z
UID:10000211-1853089200-1853094600@oldetowneathleticclub.com
SUMMARY:Doubles Trouble Tennis Drills
DESCRIPTION:
URL:https://oldetowneathleticclub.com/event/doubles-trouble-tennis-drills/2028-09-20/
LOCATION:OTAC Tennis Courts\, 4950 Olde Towne Pkwy\, Marietta\, 30068\, United States
CATEGORIES:Racket Sports Events
ORGANIZER;CN="John Shults":MAILTO:john@otac.net
END:VEVENT
END:VCALENDAR