BEGIN:VCALENDAR
VERSION:2.0
PRODID:-//Olde Towne Athletic Club - ECPv6.15.20//NONSGML v1.0//EN
CALSCALE:GREGORIAN
METHOD:PUBLISH
X-ORIGINAL-URL:https://oldetowneathleticclub.com
X-WR-CALDESC:Events for Olde Towne Athletic Club
REFRESH-INTERVAL;VALUE=DURATION:PT1H
X-Robots-Tag:noindex
X-PUBLISHED-TTL:PT1H
BEGIN:VTIMEZONE
TZID:America/New_York
BEGIN:DAYLIGHT
TZOFFSETFROM:-0500
TZOFFSETTO:-0400
TZNAME:EDT
DTSTART:20280312T070000
END:DAYLIGHT
BEGIN:STANDARD
TZOFFSETFROM:-0400
TZOFFSETTO:-0500
TZNAME:EST
DTSTART:20281105T060000
END:STANDARD
BEGIN:DAYLIGHT
TZOFFSETFROM:-0500
TZOFFSETTO:-0400
TZNAME:EDT
DTSTART:20290311T070000
END:DAYLIGHT
BEGIN:STANDARD
TZOFFSETFROM:-0400
TZOFFSETTO:-0500
TZNAME:EST
DTSTART:20291104T060000
END:STANDARD
BEGIN:DAYLIGHT
TZOFFSETFROM:-0500
TZOFFSETTO:-0400
TZNAME:EDT
DTSTART:20300310T070000
END:DAYLIGHT
BEGIN:STANDARD
TZOFFSETFROM:-0400
TZOFFSETTO:-0500
TZNAME:EST
DTSTART:20301103T060000
END:STANDARD
BEGIN:DAYLIGHT
TZOFFSETFROM:-0500
TZOFFSETTO:-0400
TZNAME:EDT
DTSTART:20310309T070000
END:DAYLIGHT
BEGIN:STANDARD
TZOFFSETFROM:-0400
TZOFFSETTO:-0500
TZNAME:EST
DTSTART:20311102T060000
END:STANDARD
END:VTIMEZONE
BEGIN:VEVENT
DTSTART;TZID=America/New_York:20291226T190000
DTEND;TZID=America/New_York:20291226T203000
DTSTAMP:20260420T165941
CREATED:20251111T020521Z
LAST-MODIFIED:20251111T020521Z
UID:10000277-1893006000-1893011400@oldetowneathleticclub.com
SUMMARY:Doubles Trouble Tennis Drills
DESCRIPTION:
URL:https://oldetowneathleticclub.com/event/doubles-trouble-tennis-drills/2029-12-26/
LOCATION:OTAC Tennis Courts\, 4950 Olde Towne Pkwy\, Marietta\, 30068\, United States
CATEGORIES:Racket Sports Events
ORGANIZER;CN="John Shults":MAILTO:john@otac.net
END:VEVENT
BEGIN:VEVENT
DTSTART;TZID=America/New_York:20291228T090000
DTEND;TZID=America/New_York:20291228T103000
DTSTAMP:20260420T165941
CREATED:20251120T232537Z
LAST-MODIFIED:20251120T232537Z
UID:10000905-1893142800-1893148200@oldetowneathleticclub.com
SUMMARY:Adult Drills
DESCRIPTION:Register HERE for Adult Drills. You will need a YourCourts account. Register HERE if you need a YourCourts account.
URL:https://oldetowneathleticclub.com/event/adult-drills/2029-12-28/
LOCATION:OTAC Tennis Courts\, 4950 Olde Towne Pkwy\, Marietta\, 30068\, United States
CATEGORIES:Racket Sports Events
ORGANIZER;CN="Julius Robberts":MAILTO:julius@otac.net
END:VEVENT
BEGIN:VEVENT
DTSTART;TZID=America/New_York:20300102T190000
DTEND;TZID=America/New_York:20300102T203000
DTSTAMP:20260420T165941
CREATED:20251111T020521Z
LAST-MODIFIED:20251111T020521Z
UID:10000278-1893610800-1893616200@oldetowneathleticclub.com
SUMMARY:Doubles Trouble Tennis Drills
DESCRIPTION:
URL:https://oldetowneathleticclub.com/event/doubles-trouble-tennis-drills/2030-01-02/
LOCATION:OTAC Tennis Courts\, 4950 Olde Towne Pkwy\, Marietta\, 30068\, United States
CATEGORIES:Racket Sports Events
ORGANIZER;CN="John Shults":MAILTO:john@otac.net
END:VEVENT
BEGIN:VEVENT
DTSTART;TZID=America/New_York:20300104T090000
DTEND;TZID=America/New_York:20300104T103000
DTSTAMP:20260420T165941
CREATED:20251120T232537Z
LAST-MODIFIED:20251120T232537Z
UID:10000906-1893747600-1893753000@oldetowneathleticclub.com
SUMMARY:Adult Drills
DESCRIPTION:Register HERE for Adult Drills. You will need a YourCourts account. Register HERE if you need a YourCourts account.
URL:https://oldetowneathleticclub.com/event/adult-drills/2030-01-04/
LOCATION:OTAC Tennis Courts\, 4950 Olde Towne Pkwy\, Marietta\, 30068\, United States
CATEGORIES:Racket Sports Events
ORGANIZER;CN="Julius Robberts":MAILTO:julius@otac.net
END:VEVENT
BEGIN:VEVENT
DTSTART;TZID=America/New_York:20300109T190000
DTEND;TZID=America/New_York:20300109T203000
DTSTAMP:20260420T165941
CREATED:20251111T020521Z
LAST-MODIFIED:20251111T020521Z
UID:10000279-1894215600-1894221000@oldetowneathleticclub.com
SUMMARY:Doubles Trouble Tennis Drills
DESCRIPTION:
URL:https://oldetowneathleticclub.com/event/doubles-trouble-tennis-drills/2030-01-09/
LOCATION:OTAC Tennis Courts\, 4950 Olde Towne Pkwy\, Marietta\, 30068\, United States
CATEGORIES:Racket Sports Events
ORGANIZER;CN="John Shults":MAILTO:john@otac.net
END:VEVENT
BEGIN:VEVENT
DTSTART;TZID=America/New_York:20300111T090000
DTEND;TZID=America/New_York:20300111T103000
DTSTAMP:20260420T165941
CREATED:20251120T232537Z
LAST-MODIFIED:20251120T232537Z
UID:10000907-1894352400-1894357800@oldetowneathleticclub.com
SUMMARY:Adult Drills
DESCRIPTION:Register HERE for Adult Drills. You will need a YourCourts account. Register HERE if you need a YourCourts account.
URL:https://oldetowneathleticclub.com/event/adult-drills/2030-01-11/
LOCATION:OTAC Tennis Courts\, 4950 Olde Towne Pkwy\, Marietta\, 30068\, United States
CATEGORIES:Racket Sports Events
ORGANIZER;CN="Julius Robberts":MAILTO:julius@otac.net
END:VEVENT
BEGIN:VEVENT
DTSTART;TZID=America/New_York:20300116T190000
DTEND;TZID=America/New_York:20300116T203000
DTSTAMP:20260420T165941
CREATED:20251111T020521Z
LAST-MODIFIED:20251111T020521Z
UID:10000280-1894820400-1894825800@oldetowneathleticclub.com
SUMMARY:Doubles Trouble Tennis Drills
DESCRIPTION:
URL:https://oldetowneathleticclub.com/event/doubles-trouble-tennis-drills/2030-01-16/
LOCATION:OTAC Tennis Courts\, 4950 Olde Towne Pkwy\, Marietta\, 30068\, United States
CATEGORIES:Racket Sports Events
ORGANIZER;CN="John Shults":MAILTO:john@otac.net
END:VEVENT
BEGIN:VEVENT
DTSTART;TZID=America/New_York:20300118T090000
DTEND;TZID=America/New_York:20300118T103000
DTSTAMP:20260420T165941
CREATED:20251120T232537Z
LAST-MODIFIED:20251120T232537Z
UID:10000908-1894957200-1894962600@oldetowneathleticclub.com
SUMMARY:Adult Drills
DESCRIPTION:Register HERE for Adult Drills. You will need a YourCourts account. Register HERE if you need a YourCourts account.
URL:https://oldetowneathleticclub.com/event/adult-drills/2030-01-18/
LOCATION:OTAC Tennis Courts\, 4950 Olde Towne Pkwy\, Marietta\, 30068\, United States
CATEGORIES:Racket Sports Events
ORGANIZER;CN="Julius Robberts":MAILTO:julius@otac.net
END:VEVENT
BEGIN:VEVENT
DTSTART;TZID=America/New_York:20300123T190000
DTEND;TZID=America/New_York:20300123T203000
DTSTAMP:20260420T165941
CREATED:20251111T020521Z
LAST-MODIFIED:20251111T020521Z
UID:10000281-1895425200-1895430600@oldetowneathleticclub.com
SUMMARY:Doubles Trouble Tennis Drills
DESCRIPTION:
URL:https://oldetowneathleticclub.com/event/doubles-trouble-tennis-drills/2030-01-23/
LOCATION:OTAC Tennis Courts\, 4950 Olde Towne Pkwy\, Marietta\, 30068\, United States
CATEGORIES:Racket Sports Events
ORGANIZER;CN="John Shults":MAILTO:john@otac.net
END:VEVENT
BEGIN:VEVENT
DTSTART;TZID=America/New_York:20300125T090000
DTEND;TZID=America/New_York:20300125T103000
DTSTAMP:20260420T165941
CREATED:20251120T232537Z
LAST-MODIFIED:20251120T232537Z
UID:10000909-1895562000-1895567400@oldetowneathleticclub.com
SUMMARY:Adult Drills
DESCRIPTION:Register HERE for Adult Drills. You will need a YourCourts account. Register HERE if you need a YourCourts account.
URL:https://oldetowneathleticclub.com/event/adult-drills/2030-01-25/
LOCATION:OTAC Tennis Courts\, 4950 Olde Towne Pkwy\, Marietta\, 30068\, United States
CATEGORIES:Racket Sports Events
ORGANIZER;CN="Julius Robberts":MAILTO:julius@otac.net
END:VEVENT
BEGIN:VEVENT
DTSTART;TZID=America/New_York:20300130T190000
DTEND;TZID=America/New_York:20300130T203000
DTSTAMP:20260420T165941
CREATED:20251111T020521Z
LAST-MODIFIED:20251111T020521Z
UID:10000282-1896030000-1896035400@oldetowneathleticclub.com
SUMMARY:Doubles Trouble Tennis Drills
DESCRIPTION:
URL:https://oldetowneathleticclub.com/event/doubles-trouble-tennis-drills/2030-01-30/
LOCATION:OTAC Tennis Courts\, 4950 Olde Towne Pkwy\, Marietta\, 30068\, United States
CATEGORIES:Racket Sports Events
ORGANIZER;CN="John Shults":MAILTO:john@otac.net
END:VEVENT
BEGIN:VEVENT
DTSTART;TZID=America/New_York:20300201T090000
DTEND;TZID=America/New_York:20300201T103000
DTSTAMP:20260420T165941
CREATED:20251120T232537Z
LAST-MODIFIED:20251120T232537Z
UID:10000910-1896166800-1896172200@oldetowneathleticclub.com
SUMMARY:Adult Drills
DESCRIPTION:Register HERE for Adult Drills. You will need a YourCourts account. Register HERE if you need a YourCourts account.
URL:https://oldetowneathleticclub.com/event/adult-drills/2030-02-01/
LOCATION:OTAC Tennis Courts\, 4950 Olde Towne Pkwy\, Marietta\, 30068\, United States
CATEGORIES:Racket Sports Events
ORGANIZER;CN="Julius Robberts":MAILTO:julius@otac.net
END:VEVENT
BEGIN:VEVENT
DTSTART;TZID=America/New_York:20300206T190000
DTEND;TZID=America/New_York:20300206T203000
DTSTAMP:20260420T165941
CREATED:20251111T020521Z
LAST-MODIFIED:20251111T020521Z
UID:10000283-1896634800-1896640200@oldetowneathleticclub.com
SUMMARY:Doubles Trouble Tennis Drills
DESCRIPTION:
URL:https://oldetowneathleticclub.com/event/doubles-trouble-tennis-drills/2030-02-06/
LOCATION:OTAC Tennis Courts\, 4950 Olde Towne Pkwy\, Marietta\, 30068\, United States
CATEGORIES:Racket Sports Events
ORGANIZER;CN="John Shults":MAILTO:john@otac.net
END:VEVENT
BEGIN:VEVENT
DTSTART;TZID=America/New_York:20300208T090000
DTEND;TZID=America/New_York:20300208T103000
DTSTAMP:20260420T165941
CREATED:20251120T232537Z
LAST-MODIFIED:20251120T232537Z
UID:10000911-1896771600-1896777000@oldetowneathleticclub.com
SUMMARY:Adult Drills
DESCRIPTION:Register HERE for Adult Drills. You will need a YourCourts account. Register HERE if you need a YourCourts account.
URL:https://oldetowneathleticclub.com/event/adult-drills/2030-02-08/
LOCATION:OTAC Tennis Courts\, 4950 Olde Towne Pkwy\, Marietta\, 30068\, United States
CATEGORIES:Racket Sports Events
ORGANIZER;CN="Julius Robberts":MAILTO:julius@otac.net
END:VEVENT
BEGIN:VEVENT
DTSTART;TZID=America/New_York:20300213T190000
DTEND;TZID=America/New_York:20300213T203000
DTSTAMP:20260420T165941
CREATED:20251111T020521Z
LAST-MODIFIED:20251111T020521Z
UID:10000284-1897239600-1897245000@oldetowneathleticclub.com
SUMMARY:Doubles Trouble Tennis Drills
DESCRIPTION:
URL:https://oldetowneathleticclub.com/event/doubles-trouble-tennis-drills/2030-02-13/
LOCATION:OTAC Tennis Courts\, 4950 Olde Towne Pkwy\, Marietta\, 30068\, United States
CATEGORIES:Racket Sports Events
ORGANIZER;CN="John Shults":MAILTO:john@otac.net
END:VEVENT
BEGIN:VEVENT
DTSTART;TZID=America/New_York:20300215T090000
DTEND;TZID=America/New_York:20300215T103000
DTSTAMP:20260420T165941
CREATED:20251120T232537Z
LAST-MODIFIED:20251120T232537Z
UID:10000912-1897376400-1897381800@oldetowneathleticclub.com
SUMMARY:Adult Drills
DESCRIPTION:Register HERE for Adult Drills. You will need a YourCourts account. Register HERE if you need a YourCourts account.
URL:https://oldetowneathleticclub.com/event/adult-drills/2030-02-15/
LOCATION:OTAC Tennis Courts\, 4950 Olde Towne Pkwy\, Marietta\, 30068\, United States
CATEGORIES:Racket Sports Events
ORGANIZER;CN="Julius Robberts":MAILTO:julius@otac.net
END:VEVENT
BEGIN:VEVENT
DTSTART;TZID=America/New_York:20300220T190000
DTEND;TZID=America/New_York:20300220T203000
DTSTAMP:20260420T165941
CREATED:20251111T020521Z
LAST-MODIFIED:20251111T020521Z
UID:10000285-1897844400-1897849800@oldetowneathleticclub.com
SUMMARY:Doubles Trouble Tennis Drills
DESCRIPTION:
URL:https://oldetowneathleticclub.com/event/doubles-trouble-tennis-drills/2030-02-20/
LOCATION:OTAC Tennis Courts\, 4950 Olde Towne Pkwy\, Marietta\, 30068\, United States
CATEGORIES:Racket Sports Events
ORGANIZER;CN="John Shults":MAILTO:john@otac.net
END:VEVENT
BEGIN:VEVENT
DTSTART;TZID=America/New_York:20300222T090000
DTEND;TZID=America/New_York:20300222T103000
DTSTAMP:20260420T165941
CREATED:20251120T232537Z
LAST-MODIFIED:20251120T232537Z
UID:10000913-1897981200-1897986600@oldetowneathleticclub.com
SUMMARY:Adult Drills
DESCRIPTION:Register HERE for Adult Drills. You will need a YourCourts account. Register HERE if you need a YourCourts account.
URL:https://oldetowneathleticclub.com/event/adult-drills/2030-02-22/
LOCATION:OTAC Tennis Courts\, 4950 Olde Towne Pkwy\, Marietta\, 30068\, United States
CATEGORIES:Racket Sports Events
ORGANIZER;CN="Julius Robberts":MAILTO:julius@otac.net
END:VEVENT
BEGIN:VEVENT
DTSTART;TZID=America/New_York:20300227T190000
DTEND;TZID=America/New_York:20300227T203000
DTSTAMP:20260420T165941
CREATED:20251111T020521Z
LAST-MODIFIED:20251111T020521Z
UID:10000286-1898449200-1898454600@oldetowneathleticclub.com
SUMMARY:Doubles Trouble Tennis Drills
DESCRIPTION:
URL:https://oldetowneathleticclub.com/event/doubles-trouble-tennis-drills/2030-02-27/
LOCATION:OTAC Tennis Courts\, 4950 Olde Towne Pkwy\, Marietta\, 30068\, United States
CATEGORIES:Racket Sports Events
ORGANIZER;CN="John Shults":MAILTO:john@otac.net
END:VEVENT
BEGIN:VEVENT
DTSTART;TZID=America/New_York:20300301T090000
DTEND;TZID=America/New_York:20300301T103000
DTSTAMP:20260420T165941
CREATED:20251120T232537Z
LAST-MODIFIED:20251120T232537Z
UID:10000914-1898586000-1898591400@oldetowneathleticclub.com
SUMMARY:Adult Drills
DESCRIPTION:Register HERE for Adult Drills. You will need a YourCourts account. Register HERE if you need a YourCourts account.
URL:https://oldetowneathleticclub.com/event/adult-drills/2030-03-01/
LOCATION:OTAC Tennis Courts\, 4950 Olde Towne Pkwy\, Marietta\, 30068\, United States
CATEGORIES:Racket Sports Events
ORGANIZER;CN="Julius Robberts":MAILTO:julius@otac.net
END:VEVENT
BEGIN:VEVENT
DTSTART;TZID=America/New_York:20300306T190000
DTEND;TZID=America/New_York:20300306T203000
DTSTAMP:20260420T165941
CREATED:20251111T020521Z
LAST-MODIFIED:20251111T020521Z
UID:10000287-1899054000-1899059400@oldetowneathleticclub.com
SUMMARY:Doubles Trouble Tennis Drills
DESCRIPTION:
URL:https://oldetowneathleticclub.com/event/doubles-trouble-tennis-drills/2030-03-06/
LOCATION:OTAC Tennis Courts\, 4950 Olde Towne Pkwy\, Marietta\, 30068\, United States
CATEGORIES:Racket Sports Events
ORGANIZER;CN="John Shults":MAILTO:john@otac.net
END:VEVENT
BEGIN:VEVENT
DTSTART;TZID=America/New_York:20300308T090000
DTEND;TZID=America/New_York:20300308T103000
DTSTAMP:20260420T165941
CREATED:20251120T232537Z
LAST-MODIFIED:20251120T232537Z
UID:10000915-1899190800-1899196200@oldetowneathleticclub.com
SUMMARY:Adult Drills
DESCRIPTION:Register HERE for Adult Drills. You will need a YourCourts account. Register HERE if you need a YourCourts account.
URL:https://oldetowneathleticclub.com/event/adult-drills/2030-03-08/
LOCATION:OTAC Tennis Courts\, 4950 Olde Towne Pkwy\, Marietta\, 30068\, United States
CATEGORIES:Racket Sports Events
ORGANIZER;CN="Julius Robberts":MAILTO:julius@otac.net
END:VEVENT
BEGIN:VEVENT
DTSTART;TZID=America/New_York:20300313T190000
DTEND;TZID=America/New_York:20300313T203000
DTSTAMP:20260420T165941
CREATED:20251111T020521Z
LAST-MODIFIED:20251111T020521Z
UID:10000288-1899658800-1899664200@oldetowneathleticclub.com
SUMMARY:Doubles Trouble Tennis Drills
DESCRIPTION:
URL:https://oldetowneathleticclub.com/event/doubles-trouble-tennis-drills/2030-03-13/
LOCATION:OTAC Tennis Courts\, 4950 Olde Towne Pkwy\, Marietta\, 30068\, United States
CATEGORIES:Racket Sports Events
ORGANIZER;CN="John Shults":MAILTO:john@otac.net
END:VEVENT
BEGIN:VEVENT
DTSTART;TZID=America/New_York:20300315T090000
DTEND;TZID=America/New_York:20300315T103000
DTSTAMP:20260420T165941
CREATED:20251120T232537Z
LAST-MODIFIED:20251120T232537Z
UID:10000916-1899795600-1899801000@oldetowneathleticclub.com
SUMMARY:Adult Drills
DESCRIPTION:Register HERE for Adult Drills. You will need a YourCourts account. Register HERE if you need a YourCourts account.
URL:https://oldetowneathleticclub.com/event/adult-drills/2030-03-15/
LOCATION:OTAC Tennis Courts\, 4950 Olde Towne Pkwy\, Marietta\, 30068\, United States
CATEGORIES:Racket Sports Events
ORGANIZER;CN="Julius Robberts":MAILTO:julius@otac.net
END:VEVENT
BEGIN:VEVENT
DTSTART;TZID=America/New_York:20300320T190000
DTEND;TZID=America/New_York:20300320T203000
DTSTAMP:20260420T165941
CREATED:20251111T020521Z
LAST-MODIFIED:20251111T020521Z
UID:10000289-1900263600-1900269000@oldetowneathleticclub.com
SUMMARY:Doubles Trouble Tennis Drills
DESCRIPTION:
URL:https://oldetowneathleticclub.com/event/doubles-trouble-tennis-drills/2030-03-20/
LOCATION:OTAC Tennis Courts\, 4950 Olde Towne Pkwy\, Marietta\, 30068\, United States
CATEGORIES:Racket Sports Events
ORGANIZER;CN="John Shults":MAILTO:john@otac.net
END:VEVENT
BEGIN:VEVENT
DTSTART;TZID=America/New_York:20300322T090000
DTEND;TZID=America/New_York:20300322T103000
DTSTAMP:20260420T165941
CREATED:20251120T232537Z
LAST-MODIFIED:20251120T232537Z
UID:10000917-1900400400-1900405800@oldetowneathleticclub.com
SUMMARY:Adult Drills
DESCRIPTION:Register HERE for Adult Drills. You will need a YourCourts account. Register HERE if you need a YourCourts account.
URL:https://oldetowneathleticclub.com/event/adult-drills/2030-03-22/
LOCATION:OTAC Tennis Courts\, 4950 Olde Towne Pkwy\, Marietta\, 30068\, United States
CATEGORIES:Racket Sports Events
ORGANIZER;CN="Julius Robberts":MAILTO:julius@otac.net
END:VEVENT
BEGIN:VEVENT
DTSTART;TZID=America/New_York:20300327T190000
DTEND;TZID=America/New_York:20300327T203000
DTSTAMP:20260420T165941
CREATED:20251111T020521Z
LAST-MODIFIED:20251111T020521Z
UID:10000290-1900868400-1900873800@oldetowneathleticclub.com
SUMMARY:Doubles Trouble Tennis Drills
DESCRIPTION:
URL:https://oldetowneathleticclub.com/event/doubles-trouble-tennis-drills/2030-03-27/
LOCATION:OTAC Tennis Courts\, 4950 Olde Towne Pkwy\, Marietta\, 30068\, United States
CATEGORIES:Racket Sports Events
ORGANIZER;CN="John Shults":MAILTO:john@otac.net
END:VEVENT
BEGIN:VEVENT
DTSTART;TZID=America/New_York:20300329T090000
DTEND;TZID=America/New_York:20300329T103000
DTSTAMP:20260420T165941
CREATED:20251120T232537Z
LAST-MODIFIED:20251120T232537Z
UID:10000918-1901005200-1901010600@oldetowneathleticclub.com
SUMMARY:Adult Drills
DESCRIPTION:Register HERE for Adult Drills. You will need a YourCourts account. Register HERE if you need a YourCourts account.
URL:https://oldetowneathleticclub.com/event/adult-drills/2030-03-29/
LOCATION:OTAC Tennis Courts\, 4950 Olde Towne Pkwy\, Marietta\, 30068\, United States
CATEGORIES:Racket Sports Events
ORGANIZER;CN="Julius Robberts":MAILTO:julius@otac.net
END:VEVENT
BEGIN:VEVENT
DTSTART;TZID=America/New_York:20300403T190000
DTEND;TZID=America/New_York:20300403T203000
DTSTAMP:20260420T165941
CREATED:20251111T020521Z
LAST-MODIFIED:20251111T020521Z
UID:10000291-1901473200-1901478600@oldetowneathleticclub.com
SUMMARY:Doubles Trouble Tennis Drills
DESCRIPTION:
URL:https://oldetowneathleticclub.com/event/doubles-trouble-tennis-drills/2030-04-03/
LOCATION:OTAC Tennis Courts\, 4950 Olde Towne Pkwy\, Marietta\, 30068\, United States
CATEGORIES:Racket Sports Events
ORGANIZER;CN="John Shults":MAILTO:john@otac.net
END:VEVENT
BEGIN:VEVENT
DTSTART;TZID=America/New_York:20300405T090000
DTEND;TZID=America/New_York:20300405T103000
DTSTAMP:20260420T165941
CREATED:20251120T232537Z
LAST-MODIFIED:20251120T232537Z
UID:10000919-1901610000-1901615400@oldetowneathleticclub.com
SUMMARY:Adult Drills
DESCRIPTION:Register HERE for Adult Drills. You will need a YourCourts account. Register HERE if you need a YourCourts account.
URL:https://oldetowneathleticclub.com/event/adult-drills/2030-04-05/
LOCATION:OTAC Tennis Courts\, 4950 Olde Towne Pkwy\, Marietta\, 30068\, United States
CATEGORIES:Racket Sports Events
ORGANIZER;CN="Julius Robberts":MAILTO:julius@otac.net
END:VEVENT
END:VCALENDAR