BEGIN:VCALENDAR
VERSION:2.0
PRODID:-//Olde Towne Athletic Club - ECPv6.15.20//NONSGML v1.0//EN
CALSCALE:GREGORIAN
METHOD:PUBLISH
X-ORIGINAL-URL:https://oldetowneathleticclub.com
X-WR-CALDESC:Events for Olde Towne Athletic Club
REFRESH-INTERVAL;VALUE=DURATION:PT1H
X-Robots-Tag:noindex
X-PUBLISHED-TTL:PT1H
BEGIN:VTIMEZONE
TZID:America/New_York
BEGIN:DAYLIGHT
TZOFFSETFROM:-0500
TZOFFSETTO:-0400
TZNAME:EDT
DTSTART:20280312T070000
END:DAYLIGHT
BEGIN:STANDARD
TZOFFSETFROM:-0400
TZOFFSETTO:-0500
TZNAME:EST
DTSTART:20281105T060000
END:STANDARD
BEGIN:DAYLIGHT
TZOFFSETFROM:-0500
TZOFFSETTO:-0400
TZNAME:EDT
DTSTART:20290311T070000
END:DAYLIGHT
BEGIN:STANDARD
TZOFFSETFROM:-0400
TZOFFSETTO:-0500
TZNAME:EST
DTSTART:20291104T060000
END:STANDARD
BEGIN:DAYLIGHT
TZOFFSETFROM:-0500
TZOFFSETTO:-0400
TZNAME:EDT
DTSTART:20300310T070000
END:DAYLIGHT
BEGIN:STANDARD
TZOFFSETFROM:-0400
TZOFFSETTO:-0500
TZNAME:EST
DTSTART:20301103T060000
END:STANDARD
END:VTIMEZONE
BEGIN:VEVENT
DTSTART;TZID=America/New_York:20290418T190000
DTEND;TZID=America/New_York:20290418T203000
DTSTAMP:20260420T040800
CREATED:20251111T020521Z
LAST-MODIFIED:20251111T020521Z
UID:10000241-1871233200-1871238600@oldetowneathleticclub.com
SUMMARY:Doubles Trouble Tennis Drills
DESCRIPTION:
URL:https://oldetowneathleticclub.com/event/doubles-trouble-tennis-drills/2029-04-18/
LOCATION:OTAC Tennis Courts\, 4950 Olde Towne Pkwy\, Marietta\, 30068\, United States
CATEGORIES:Racket Sports Events
ORGANIZER;CN="John Shults":MAILTO:john@otac.net
END:VEVENT
BEGIN:VEVENT
DTSTART;TZID=America/New_York:20290420T090000
DTEND;TZID=America/New_York:20290420T103000
DTSTAMP:20260420T040800
CREATED:20251120T232537Z
LAST-MODIFIED:20251120T232537Z
UID:10000869-1871370000-1871375400@oldetowneathleticclub.com
SUMMARY:Adult Drills
DESCRIPTION:Register HERE for Adult Drills. You will need a YourCourts account. Register HERE if you need a YourCourts account.
URL:https://oldetowneathleticclub.com/event/adult-drills/2029-04-20/
LOCATION:OTAC Tennis Courts\, 4950 Olde Towne Pkwy\, Marietta\, 30068\, United States
CATEGORIES:Racket Sports Events
ORGANIZER;CN="Julius Robberts":MAILTO:julius@otac.net
END:VEVENT
BEGIN:VEVENT
DTSTART;TZID=America/New_York:20290425T190000
DTEND;TZID=America/New_York:20290425T203000
DTSTAMP:20260420T040800
CREATED:20251111T020521Z
LAST-MODIFIED:20251111T020521Z
UID:10000242-1871838000-1871843400@oldetowneathleticclub.com
SUMMARY:Doubles Trouble Tennis Drills
DESCRIPTION:
URL:https://oldetowneathleticclub.com/event/doubles-trouble-tennis-drills/2029-04-25/
LOCATION:OTAC Tennis Courts\, 4950 Olde Towne Pkwy\, Marietta\, 30068\, United States
CATEGORIES:Racket Sports Events
ORGANIZER;CN="John Shults":MAILTO:john@otac.net
END:VEVENT
BEGIN:VEVENT
DTSTART;TZID=America/New_York:20290427T090000
DTEND;TZID=America/New_York:20290427T103000
DTSTAMP:20260420T040800
CREATED:20251120T232537Z
LAST-MODIFIED:20251120T232537Z
UID:10000870-1871974800-1871980200@oldetowneathleticclub.com
SUMMARY:Adult Drills
DESCRIPTION:Register HERE for Adult Drills. You will need a YourCourts account. Register HERE if you need a YourCourts account.
URL:https://oldetowneathleticclub.com/event/adult-drills/2029-04-27/
LOCATION:OTAC Tennis Courts\, 4950 Olde Towne Pkwy\, Marietta\, 30068\, United States
CATEGORIES:Racket Sports Events
ORGANIZER;CN="Julius Robberts":MAILTO:julius@otac.net
END:VEVENT
BEGIN:VEVENT
DTSTART;TZID=America/New_York:20290502T190000
DTEND;TZID=America/New_York:20290502T203000
DTSTAMP:20260420T040800
CREATED:20251111T020521Z
LAST-MODIFIED:20251111T020521Z
UID:10000243-1872442800-1872448200@oldetowneathleticclub.com
SUMMARY:Doubles Trouble Tennis Drills
DESCRIPTION:
URL:https://oldetowneathleticclub.com/event/doubles-trouble-tennis-drills/2029-05-02/
LOCATION:OTAC Tennis Courts\, 4950 Olde Towne Pkwy\, Marietta\, 30068\, United States
CATEGORIES:Racket Sports Events
ORGANIZER;CN="John Shults":MAILTO:john@otac.net
END:VEVENT
BEGIN:VEVENT
DTSTART;TZID=America/New_York:20290504T090000
DTEND;TZID=America/New_York:20290504T103000
DTSTAMP:20260420T040800
CREATED:20251120T232537Z
LAST-MODIFIED:20251120T232537Z
UID:10000871-1872579600-1872585000@oldetowneathleticclub.com
SUMMARY:Adult Drills
DESCRIPTION:Register HERE for Adult Drills. You will need a YourCourts account. Register HERE if you need a YourCourts account.
URL:https://oldetowneathleticclub.com/event/adult-drills/2029-05-04/
LOCATION:OTAC Tennis Courts\, 4950 Olde Towne Pkwy\, Marietta\, 30068\, United States
CATEGORIES:Racket Sports Events
ORGANIZER;CN="Julius Robberts":MAILTO:julius@otac.net
END:VEVENT
BEGIN:VEVENT
DTSTART;TZID=America/New_York:20290509T190000
DTEND;TZID=America/New_York:20290509T203000
DTSTAMP:20260420T040800
CREATED:20251111T020521Z
LAST-MODIFIED:20251111T020521Z
UID:10000244-1873047600-1873053000@oldetowneathleticclub.com
SUMMARY:Doubles Trouble Tennis Drills
DESCRIPTION:
URL:https://oldetowneathleticclub.com/event/doubles-trouble-tennis-drills/2029-05-09/
LOCATION:OTAC Tennis Courts\, 4950 Olde Towne Pkwy\, Marietta\, 30068\, United States
CATEGORIES:Racket Sports Events
ORGANIZER;CN="John Shults":MAILTO:john@otac.net
END:VEVENT
BEGIN:VEVENT
DTSTART;TZID=America/New_York:20290511T090000
DTEND;TZID=America/New_York:20290511T103000
DTSTAMP:20260420T040800
CREATED:20251120T232537Z
LAST-MODIFIED:20251120T232537Z
UID:10000872-1873184400-1873189800@oldetowneathleticclub.com
SUMMARY:Adult Drills
DESCRIPTION:Register HERE for Adult Drills. You will need a YourCourts account. Register HERE if you need a YourCourts account.
URL:https://oldetowneathleticclub.com/event/adult-drills/2029-05-11/
LOCATION:OTAC Tennis Courts\, 4950 Olde Towne Pkwy\, Marietta\, 30068\, United States
CATEGORIES:Racket Sports Events
ORGANIZER;CN="Julius Robberts":MAILTO:julius@otac.net
END:VEVENT
BEGIN:VEVENT
DTSTART;TZID=America/New_York:20290516T190000
DTEND;TZID=America/New_York:20290516T203000
DTSTAMP:20260420T040800
CREATED:20251111T020521Z
LAST-MODIFIED:20251111T020521Z
UID:10000245-1873652400-1873657800@oldetowneathleticclub.com
SUMMARY:Doubles Trouble Tennis Drills
DESCRIPTION:
URL:https://oldetowneathleticclub.com/event/doubles-trouble-tennis-drills/2029-05-16/
LOCATION:OTAC Tennis Courts\, 4950 Olde Towne Pkwy\, Marietta\, 30068\, United States
CATEGORIES:Racket Sports Events
ORGANIZER;CN="John Shults":MAILTO:john@otac.net
END:VEVENT
BEGIN:VEVENT
DTSTART;TZID=America/New_York:20290518T090000
DTEND;TZID=America/New_York:20290518T103000
DTSTAMP:20260420T040800
CREATED:20251120T232537Z
LAST-MODIFIED:20251120T232537Z
UID:10000873-1873789200-1873794600@oldetowneathleticclub.com
SUMMARY:Adult Drills
DESCRIPTION:Register HERE for Adult Drills. You will need a YourCourts account. Register HERE if you need a YourCourts account.
URL:https://oldetowneathleticclub.com/event/adult-drills/2029-05-18/
LOCATION:OTAC Tennis Courts\, 4950 Olde Towne Pkwy\, Marietta\, 30068\, United States
CATEGORIES:Racket Sports Events
ORGANIZER;CN="Julius Robberts":MAILTO:julius@otac.net
END:VEVENT
BEGIN:VEVENT
DTSTART;TZID=America/New_York:20290523T190000
DTEND;TZID=America/New_York:20290523T203000
DTSTAMP:20260420T040800
CREATED:20251111T020521Z
LAST-MODIFIED:20251111T020521Z
UID:10000246-1874257200-1874262600@oldetowneathleticclub.com
SUMMARY:Doubles Trouble Tennis Drills
DESCRIPTION:
URL:https://oldetowneathleticclub.com/event/doubles-trouble-tennis-drills/2029-05-23/
LOCATION:OTAC Tennis Courts\, 4950 Olde Towne Pkwy\, Marietta\, 30068\, United States
CATEGORIES:Racket Sports Events
ORGANIZER;CN="John Shults":MAILTO:john@otac.net
END:VEVENT
BEGIN:VEVENT
DTSTART;TZID=America/New_York:20290525T090000
DTEND;TZID=America/New_York:20290525T103000
DTSTAMP:20260420T040800
CREATED:20251120T232537Z
LAST-MODIFIED:20251120T232537Z
UID:10000874-1874394000-1874399400@oldetowneathleticclub.com
SUMMARY:Adult Drills
DESCRIPTION:Register HERE for Adult Drills. You will need a YourCourts account. Register HERE if you need a YourCourts account.
URL:https://oldetowneathleticclub.com/event/adult-drills/2029-05-25/
LOCATION:OTAC Tennis Courts\, 4950 Olde Towne Pkwy\, Marietta\, 30068\, United States
CATEGORIES:Racket Sports Events
ORGANIZER;CN="Julius Robberts":MAILTO:julius@otac.net
END:VEVENT
BEGIN:VEVENT
DTSTART;TZID=America/New_York:20290530T190000
DTEND;TZID=America/New_York:20290530T203000
DTSTAMP:20260420T040800
CREATED:20251111T020521Z
LAST-MODIFIED:20251111T020521Z
UID:10000247-1874862000-1874867400@oldetowneathleticclub.com
SUMMARY:Doubles Trouble Tennis Drills
DESCRIPTION:
URL:https://oldetowneathleticclub.com/event/doubles-trouble-tennis-drills/2029-05-30/
LOCATION:OTAC Tennis Courts\, 4950 Olde Towne Pkwy\, Marietta\, 30068\, United States
CATEGORIES:Racket Sports Events
ORGANIZER;CN="John Shults":MAILTO:john@otac.net
END:VEVENT
BEGIN:VEVENT
DTSTART;TZID=America/New_York:20290601T090000
DTEND;TZID=America/New_York:20290601T103000
DTSTAMP:20260420T040800
CREATED:20251120T232537Z
LAST-MODIFIED:20251120T232537Z
UID:10000875-1874998800-1875004200@oldetowneathleticclub.com
SUMMARY:Adult Drills
DESCRIPTION:Register HERE for Adult Drills. You will need a YourCourts account. Register HERE if you need a YourCourts account.
URL:https://oldetowneathleticclub.com/event/adult-drills/2029-06-01/
LOCATION:OTAC Tennis Courts\, 4950 Olde Towne Pkwy\, Marietta\, 30068\, United States
CATEGORIES:Racket Sports Events
ORGANIZER;CN="Julius Robberts":MAILTO:julius@otac.net
END:VEVENT
BEGIN:VEVENT
DTSTART;TZID=America/New_York:20290606T190000
DTEND;TZID=America/New_York:20290606T203000
DTSTAMP:20260420T040800
CREATED:20251111T020521Z
LAST-MODIFIED:20251111T020521Z
UID:10000248-1875466800-1875472200@oldetowneathleticclub.com
SUMMARY:Doubles Trouble Tennis Drills
DESCRIPTION:
URL:https://oldetowneathleticclub.com/event/doubles-trouble-tennis-drills/2029-06-06/
LOCATION:OTAC Tennis Courts\, 4950 Olde Towne Pkwy\, Marietta\, 30068\, United States
CATEGORIES:Racket Sports Events
ORGANIZER;CN="John Shults":MAILTO:john@otac.net
END:VEVENT
BEGIN:VEVENT
DTSTART;TZID=America/New_York:20290608T090000
DTEND;TZID=America/New_York:20290608T103000
DTSTAMP:20260420T040800
CREATED:20251120T232537Z
LAST-MODIFIED:20251120T232537Z
UID:10000876-1875603600-1875609000@oldetowneathleticclub.com
SUMMARY:Adult Drills
DESCRIPTION:Register HERE for Adult Drills. You will need a YourCourts account. Register HERE if you need a YourCourts account.
URL:https://oldetowneathleticclub.com/event/adult-drills/2029-06-08/
LOCATION:OTAC Tennis Courts\, 4950 Olde Towne Pkwy\, Marietta\, 30068\, United States
CATEGORIES:Racket Sports Events
ORGANIZER;CN="Julius Robberts":MAILTO:julius@otac.net
END:VEVENT
BEGIN:VEVENT
DTSTART;TZID=America/New_York:20290613T190000
DTEND;TZID=America/New_York:20290613T203000
DTSTAMP:20260420T040800
CREATED:20251111T020521Z
LAST-MODIFIED:20251111T020521Z
UID:10000249-1876071600-1876077000@oldetowneathleticclub.com
SUMMARY:Doubles Trouble Tennis Drills
DESCRIPTION:
URL:https://oldetowneathleticclub.com/event/doubles-trouble-tennis-drills/2029-06-13/
LOCATION:OTAC Tennis Courts\, 4950 Olde Towne Pkwy\, Marietta\, 30068\, United States
CATEGORIES:Racket Sports Events
ORGANIZER;CN="John Shults":MAILTO:john@otac.net
END:VEVENT
BEGIN:VEVENT
DTSTART;TZID=America/New_York:20290615T090000
DTEND;TZID=America/New_York:20290615T103000
DTSTAMP:20260420T040800
CREATED:20251120T232537Z
LAST-MODIFIED:20251120T232537Z
UID:10000877-1876208400-1876213800@oldetowneathleticclub.com
SUMMARY:Adult Drills
DESCRIPTION:Register HERE for Adult Drills. You will need a YourCourts account. Register HERE if you need a YourCourts account.
URL:https://oldetowneathleticclub.com/event/adult-drills/2029-06-15/
LOCATION:OTAC Tennis Courts\, 4950 Olde Towne Pkwy\, Marietta\, 30068\, United States
CATEGORIES:Racket Sports Events
ORGANIZER;CN="Julius Robberts":MAILTO:julius@otac.net
END:VEVENT
BEGIN:VEVENT
DTSTART;TZID=America/New_York:20290620T190000
DTEND;TZID=America/New_York:20290620T203000
DTSTAMP:20260420T040800
CREATED:20251111T020521Z
LAST-MODIFIED:20251111T020521Z
UID:10000250-1876676400-1876681800@oldetowneathleticclub.com
SUMMARY:Doubles Trouble Tennis Drills
DESCRIPTION:
URL:https://oldetowneathleticclub.com/event/doubles-trouble-tennis-drills/2029-06-20/
LOCATION:OTAC Tennis Courts\, 4950 Olde Towne Pkwy\, Marietta\, 30068\, United States
CATEGORIES:Racket Sports Events
ORGANIZER;CN="John Shults":MAILTO:john@otac.net
END:VEVENT
BEGIN:VEVENT
DTSTART;TZID=America/New_York:20290622T090000
DTEND;TZID=America/New_York:20290622T103000
DTSTAMP:20260420T040800
CREATED:20251120T232537Z
LAST-MODIFIED:20251120T232537Z
UID:10000878-1876813200-1876818600@oldetowneathleticclub.com
SUMMARY:Adult Drills
DESCRIPTION:Register HERE for Adult Drills. You will need a YourCourts account. Register HERE if you need a YourCourts account.
URL:https://oldetowneathleticclub.com/event/adult-drills/2029-06-22/
LOCATION:OTAC Tennis Courts\, 4950 Olde Towne Pkwy\, Marietta\, 30068\, United States
CATEGORIES:Racket Sports Events
ORGANIZER;CN="Julius Robberts":MAILTO:julius@otac.net
END:VEVENT
BEGIN:VEVENT
DTSTART;TZID=America/New_York:20290627T190000
DTEND;TZID=America/New_York:20290627T203000
DTSTAMP:20260420T040800
CREATED:20251111T020521Z
LAST-MODIFIED:20251111T020521Z
UID:10000251-1877281200-1877286600@oldetowneathleticclub.com
SUMMARY:Doubles Trouble Tennis Drills
DESCRIPTION:
URL:https://oldetowneathleticclub.com/event/doubles-trouble-tennis-drills/2029-06-27/
LOCATION:OTAC Tennis Courts\, 4950 Olde Towne Pkwy\, Marietta\, 30068\, United States
CATEGORIES:Racket Sports Events
ORGANIZER;CN="John Shults":MAILTO:john@otac.net
END:VEVENT
BEGIN:VEVENT
DTSTART;TZID=America/New_York:20290629T090000
DTEND;TZID=America/New_York:20290629T103000
DTSTAMP:20260420T040800
CREATED:20251120T232537Z
LAST-MODIFIED:20251120T232537Z
UID:10000879-1877418000-1877423400@oldetowneathleticclub.com
SUMMARY:Adult Drills
DESCRIPTION:Register HERE for Adult Drills. You will need a YourCourts account. Register HERE if you need a YourCourts account.
URL:https://oldetowneathleticclub.com/event/adult-drills/2029-06-29/
LOCATION:OTAC Tennis Courts\, 4950 Olde Towne Pkwy\, Marietta\, 30068\, United States
CATEGORIES:Racket Sports Events
ORGANIZER;CN="Julius Robberts":MAILTO:julius@otac.net
END:VEVENT
BEGIN:VEVENT
DTSTART;TZID=America/New_York:20290704T190000
DTEND;TZID=America/New_York:20290704T203000
DTSTAMP:20260420T040800
CREATED:20251111T020521Z
LAST-MODIFIED:20251111T020521Z
UID:10000252-1877886000-1877891400@oldetowneathleticclub.com
SUMMARY:Doubles Trouble Tennis Drills
DESCRIPTION:
URL:https://oldetowneathleticclub.com/event/doubles-trouble-tennis-drills/2029-07-04/
LOCATION:OTAC Tennis Courts\, 4950 Olde Towne Pkwy\, Marietta\, 30068\, United States
CATEGORIES:Racket Sports Events
ORGANIZER;CN="John Shults":MAILTO:john@otac.net
END:VEVENT
BEGIN:VEVENT
DTSTART;TZID=America/New_York:20290706T090000
DTEND;TZID=America/New_York:20290706T103000
DTSTAMP:20260420T040800
CREATED:20251120T232537Z
LAST-MODIFIED:20251120T232537Z
UID:10000880-1878022800-1878028200@oldetowneathleticclub.com
SUMMARY:Adult Drills
DESCRIPTION:Register HERE for Adult Drills. You will need a YourCourts account. Register HERE if you need a YourCourts account.
URL:https://oldetowneathleticclub.com/event/adult-drills/2029-07-06/
LOCATION:OTAC Tennis Courts\, 4950 Olde Towne Pkwy\, Marietta\, 30068\, United States
CATEGORIES:Racket Sports Events
ORGANIZER;CN="Julius Robberts":MAILTO:julius@otac.net
END:VEVENT
BEGIN:VEVENT
DTSTART;TZID=America/New_York:20290711T190000
DTEND;TZID=America/New_York:20290711T203000
DTSTAMP:20260420T040800
CREATED:20251111T020521Z
LAST-MODIFIED:20251111T020521Z
UID:10000253-1878490800-1878496200@oldetowneathleticclub.com
SUMMARY:Doubles Trouble Tennis Drills
DESCRIPTION:
URL:https://oldetowneathleticclub.com/event/doubles-trouble-tennis-drills/2029-07-11/
LOCATION:OTAC Tennis Courts\, 4950 Olde Towne Pkwy\, Marietta\, 30068\, United States
CATEGORIES:Racket Sports Events
ORGANIZER;CN="John Shults":MAILTO:john@otac.net
END:VEVENT
BEGIN:VEVENT
DTSTART;TZID=America/New_York:20290713T090000
DTEND;TZID=America/New_York:20290713T103000
DTSTAMP:20260420T040800
CREATED:20251120T232537Z
LAST-MODIFIED:20251120T232537Z
UID:10000881-1878627600-1878633000@oldetowneathleticclub.com
SUMMARY:Adult Drills
DESCRIPTION:Register HERE for Adult Drills. You will need a YourCourts account. Register HERE if you need a YourCourts account.
URL:https://oldetowneathleticclub.com/event/adult-drills/2029-07-13/
LOCATION:OTAC Tennis Courts\, 4950 Olde Towne Pkwy\, Marietta\, 30068\, United States
CATEGORIES:Racket Sports Events
ORGANIZER;CN="Julius Robberts":MAILTO:julius@otac.net
END:VEVENT
BEGIN:VEVENT
DTSTART;TZID=America/New_York:20290718T190000
DTEND;TZID=America/New_York:20290718T203000
DTSTAMP:20260420T040800
CREATED:20251111T020521Z
LAST-MODIFIED:20251111T020521Z
UID:10000254-1879095600-1879101000@oldetowneathleticclub.com
SUMMARY:Doubles Trouble Tennis Drills
DESCRIPTION:
URL:https://oldetowneathleticclub.com/event/doubles-trouble-tennis-drills/2029-07-18/
LOCATION:OTAC Tennis Courts\, 4950 Olde Towne Pkwy\, Marietta\, 30068\, United States
CATEGORIES:Racket Sports Events
ORGANIZER;CN="John Shults":MAILTO:john@otac.net
END:VEVENT
BEGIN:VEVENT
DTSTART;TZID=America/New_York:20290720T090000
DTEND;TZID=America/New_York:20290720T103000
DTSTAMP:20260420T040800
CREATED:20251120T232537Z
LAST-MODIFIED:20251120T232537Z
UID:10000882-1879232400-1879237800@oldetowneathleticclub.com
SUMMARY:Adult Drills
DESCRIPTION:Register HERE for Adult Drills. You will need a YourCourts account. Register HERE if you need a YourCourts account.
URL:https://oldetowneathleticclub.com/event/adult-drills/2029-07-20/
LOCATION:OTAC Tennis Courts\, 4950 Olde Towne Pkwy\, Marietta\, 30068\, United States
CATEGORIES:Racket Sports Events
ORGANIZER;CN="Julius Robberts":MAILTO:julius@otac.net
END:VEVENT
BEGIN:VEVENT
DTSTART;TZID=America/New_York:20290725T190000
DTEND;TZID=America/New_York:20290725T203000
DTSTAMP:20260420T040800
CREATED:20251111T020521Z
LAST-MODIFIED:20251111T020521Z
UID:10000255-1879700400-1879705800@oldetowneathleticclub.com
SUMMARY:Doubles Trouble Tennis Drills
DESCRIPTION:
URL:https://oldetowneathleticclub.com/event/doubles-trouble-tennis-drills/2029-07-25/
LOCATION:OTAC Tennis Courts\, 4950 Olde Towne Pkwy\, Marietta\, 30068\, United States
CATEGORIES:Racket Sports Events
ORGANIZER;CN="John Shults":MAILTO:john@otac.net
END:VEVENT
BEGIN:VEVENT
DTSTART;TZID=America/New_York:20290727T090000
DTEND;TZID=America/New_York:20290727T103000
DTSTAMP:20260420T040800
CREATED:20251120T232537Z
LAST-MODIFIED:20251120T232537Z
UID:10000883-1879837200-1879842600@oldetowneathleticclub.com
SUMMARY:Adult Drills
DESCRIPTION:Register HERE for Adult Drills. You will need a YourCourts account. Register HERE if you need a YourCourts account.
URL:https://oldetowneathleticclub.com/event/adult-drills/2029-07-27/
LOCATION:OTAC Tennis Courts\, 4950 Olde Towne Pkwy\, Marietta\, 30068\, United States
CATEGORIES:Racket Sports Events
ORGANIZER;CN="Julius Robberts":MAILTO:julius@otac.net
END:VEVENT
END:VCALENDAR